BEGIN:VCALENDAR
VERSION:2.0
PRODID:-//Mill Creek Towne Swim Association - Home of the Marlins - ECPv6.15.20//NONSGML v1.0//EN
CALSCALE:GREGORIAN
METHOD:PUBLISH
X-WR-CALNAME:Mill Creek Towne Swim Association - Home of the Marlins
X-ORIGINAL-URL:https://mctsa.com
X-WR-CALDESC:Events for Mill Creek Towne Swim Association - Home of the Marlins
REFRESH-INTERVAL;VALUE=DURATION:PT1H
X-Robots-Tag:noindex
X-PUBLISHED-TTL:PT1H
BEGIN:VTIMEZONE
TZID:America/New_York
BEGIN:DAYLIGHT
TZOFFSETFROM:-0500
TZOFFSETTO:-0400
TZNAME:EDT
DTSTART:20250309T070000
END:DAYLIGHT
BEGIN:STANDARD
TZOFFSETFROM:-0400
TZOFFSETTO:-0500
TZNAME:EST
DTSTART:20251102T060000
END:STANDARD
BEGIN:DAYLIGHT
TZOFFSETFROM:-0500
TZOFFSETTO:-0400
TZNAME:EDT
DTSTART:20260308T070000
END:DAYLIGHT
BEGIN:STANDARD
TZOFFSETFROM:-0400
TZOFFSETTO:-0500
TZNAME:EST
DTSTART:20261101T060000
END:STANDARD
BEGIN:DAYLIGHT
TZOFFSETFROM:-0500
TZOFFSETTO:-0400
TZNAME:EDT
DTSTART:20270314T070000
END:DAYLIGHT
BEGIN:STANDARD
TZOFFSETFROM:-0400
TZOFFSETTO:-0500
TZNAME:EST
DTSTART:20271107T060000
END:STANDARD
END:VTIMEZONE
BEGIN:VEVENT
DTSTART;TZID=America/New_York:20260727T080000
DTEND;TZID=America/New_York:20260730T130000
DTSTAMP:20260419T161408
CREATED:20250531T113244Z
LAST-MODIFIED:20260327T154139Z
UID:10000161-1785139200-1785416400@mctsa.com
SUMMARY:Atlantic Edge Scuba Camp
DESCRIPTION:Atlantic Edge will be occupying the dive well and one swim lane until about 1PM.  They will move to the pavilion after that.
URL:https://mctsa.com/event/atlantic-edge-scuba-camp/
ORGANIZER;CN="Mike Mazza":MAILTO:mulligans4me2@hotmail.com
END:VEVENT
END:VCALENDAR