BEGIN:VCALENDAR
VERSION:2.0
PRODID:-//Mill Creek Towne Swim Association - Home of the Marlins - ECPv6.15.20//NONSGML v1.0//EN
CALSCALE:GREGORIAN
METHOD:PUBLISH
X-WR-CALNAME:Mill Creek Towne Swim Association - Home of the Marlins
X-ORIGINAL-URL:https://mctsa.com
X-WR-CALDESC:Events for Mill Creek Towne Swim Association - Home of the Marlins
REFRESH-INTERVAL;VALUE=DURATION:PT1H
X-Robots-Tag:noindex
X-PUBLISHED-TTL:PT1H
BEGIN:VTIMEZONE
TZID:America/New_York
BEGIN:DAYLIGHT
TZOFFSETFROM:-0500
TZOFFSETTO:-0400
TZNAME:EDT
DTSTART:20250309T070000
END:DAYLIGHT
BEGIN:STANDARD
TZOFFSETFROM:-0400
TZOFFSETTO:-0500
TZNAME:EST
DTSTART:20251102T060000
END:STANDARD
BEGIN:DAYLIGHT
TZOFFSETFROM:-0500
TZOFFSETTO:-0400
TZNAME:EDT
DTSTART:20260308T070000
END:DAYLIGHT
BEGIN:STANDARD
TZOFFSETFROM:-0400
TZOFFSETTO:-0500
TZNAME:EST
DTSTART:20261101T060000
END:STANDARD
BEGIN:DAYLIGHT
TZOFFSETFROM:-0500
TZOFFSETTO:-0400
TZNAME:EDT
DTSTART:20270314T070000
END:DAYLIGHT
BEGIN:STANDARD
TZOFFSETFROM:-0400
TZOFFSETTO:-0500
TZNAME:EST
DTSTART:20271107T060000
END:STANDARD
END:VTIMEZONE
BEGIN:VEVENT
DTSTART;TZID=America/New_York:20260727T080000
DTEND;TZID=America/New_York:20260730T130000
DTSTAMP:20260419T181016
CREATED:20250531T113244Z
LAST-MODIFIED:20260327T154139Z
UID:10000161-1785139200-1785416400@mctsa.com
SUMMARY:Atlantic Edge Scuba Camp
DESCRIPTION:Atlantic Edge will be occupying the dive well and one swim lane until about 1PM.  They will move to the pavilion after that.
URL:https://mctsa.com/event/atlantic-edge-scuba-camp/
ORGANIZER;CN="Mike Mazza":MAILTO:mulligans4me2@hotmail.com
END:VEVENT
BEGIN:VEVENT
DTSTART;TZID=America/New_York:20260809T080000
DTEND;TZID=America/New_York:20260809T130000
DTSTAMP:20260419T181016
CREATED:20260327T154845Z
LAST-MODIFIED:20260327T154845Z
UID:10000174-1786262400-1786280400@mctsa.com
SUMMARY:Atlantic Edge Scuba Training
DESCRIPTION:We are proud to host Atlantic Edge Scuba diving lessons at Mill Creek Towne. These lessons occur on Sundays throughout the season. Atlantic Edge will be using the dive well and the first two lap lanes from 6:30am to 1:00 PM. They will transition to classroom learning at two tables under the pavilion. Atlantic Edge is an important financial partner of Mill Creek Towne Pool! \nSign up at https://atlanticedge.com/courses/learn-to-scuba-dive
URL:https://mctsa.com/event/atlantic-edge-scuba-training-7/
END:VEVENT
BEGIN:VEVENT
DTSTART;TZID=America/New_York:20260824T080000
DTEND;TZID=America/New_York:20260827T130000
DTSTAMP:20260419T181016
CREATED:20260327T154251Z
LAST-MODIFIED:20260327T154251Z
UID:10000168-1787558400-1787835600@mctsa.com
SUMMARY:Atlantic Edge Scuba Camp
DESCRIPTION:
URL:https://mctsa.com/event/atlantic-edge-scuba-camp-2/
END:VEVENT
BEGIN:VEVENT
DTSTART;TZID=America/New_York:20260830T080000
DTEND;TZID=America/New_York:20260830T130000
DTSTAMP:20260419T181016
CREATED:20260327T154920Z
LAST-MODIFIED:20260327T154920Z
UID:10000175-1788076800-1788094800@mctsa.com
SUMMARY:Atlantic Edge Scuba Training
DESCRIPTION:We are proud to host Atlantic Edge Scuba diving lessons at Mill Creek Towne. These lessons occur on Sundays throughout the season. Atlantic Edge will be using the dive well and the first two lap lanes from 6:30am to 1:00 PM. They will transition to classroom learning at two tables under the pavilion. Atlantic Edge is an important financial partner of Mill Creek Towne Pool! \nSign up at https://atlanticedge.com/courses/learn-to-scuba-dive
URL:https://mctsa.com/event/atlantic-edge-scuba-training-8/
END:VEVENT
BEGIN:VEVENT
DTSTART;TZID=America/New_York:20260906T080000
DTEND;TZID=America/New_York:20260906T130000
DTSTAMP:20260419T181016
CREATED:20260327T154954Z
LAST-MODIFIED:20260327T154954Z
UID:10000176-1788681600-1788699600@mctsa.com
SUMMARY:Atlantic Edge Scuba Training
DESCRIPTION:We are proud to host Atlantic Edge Scuba diving lessons at Mill Creek Towne. These lessons occur on Sundays throughout the season. Atlantic Edge will be using the dive well and the first two lap lanes from 6:30am to 1:00 PM. They will transition to classroom learning at two tables under the pavilion. Atlantic Edge is an important financial partner of Mill Creek Towne Pool! \nSign up at https://atlanticedge.com/courses/learn-to-scuba-dive
URL:https://mctsa.com/event/atlantic-edge-scuba-training-9/
END:VEVENT
END:VCALENDAR