BEGIN:VCALENDAR
VERSION:2.0
PRODID:-//Mill Creek Towne Swim Association - Home of the Marlins - ECPv6.15.20//NONSGML v1.0//EN
CALSCALE:GREGORIAN
METHOD:PUBLISH
X-WR-CALNAME:Mill Creek Towne Swim Association - Home of the Marlins
X-ORIGINAL-URL:https://mctsa.com
X-WR-CALDESC:Events for Mill Creek Towne Swim Association - Home of the Marlins
REFRESH-INTERVAL;VALUE=DURATION:PT1H
X-Robots-Tag:noindex
X-PUBLISHED-TTL:PT1H
BEGIN:VTIMEZONE
TZID:America/New_York
BEGIN:DAYLIGHT
TZOFFSETFROM:-0500
TZOFFSETTO:-0400
TZNAME:EDT
DTSTART:20230312T070000
END:DAYLIGHT
BEGIN:STANDARD
TZOFFSETFROM:-0400
TZOFFSETTO:-0500
TZNAME:EST
DTSTART:20231105T060000
END:STANDARD
BEGIN:DAYLIGHT
TZOFFSETFROM:-0500
TZOFFSETTO:-0400
TZNAME:EDT
DTSTART:20240310T070000
END:DAYLIGHT
BEGIN:STANDARD
TZOFFSETFROM:-0400
TZOFFSETTO:-0500
TZNAME:EST
DTSTART:20241103T060000
END:STANDARD
BEGIN:DAYLIGHT
TZOFFSETFROM:-0500
TZOFFSETTO:-0400
TZNAME:EDT
DTSTART:20250309T070000
END:DAYLIGHT
BEGIN:STANDARD
TZOFFSETFROM:-0400
TZOFFSETTO:-0500
TZNAME:EST
DTSTART:20251102T060000
END:STANDARD
END:VTIMEZONE
BEGIN:VEVENT
DTSTART;TZID=America/New_York:20240712T173000
DTEND;TZID=America/New_York:20240712T193000
DTSTAMP:20260419T181314
CREATED:20240227T231341Z
LAST-MODIFIED:20240301T225745Z
UID:10000016-1720805400-1720812600@mctsa.com
SUMMARY:Friday Night Food Truck - Q'Sabroso
DESCRIPTION:
URL:https://mctsa.com/event/friday-night-food-truck-5/
CATEGORIES:Food Truck
ATTACH;FMTTYPE=image/png:https://mctsa.com/wp-content/uploads/2024/02/qsabroso.png
END:VEVENT
BEGIN:VEVENT
DTSTART;TZID=America/New_York:20240712T070000
DTEND;TZID=America/New_York:20240712T080000
DTSTAMP:20260419T181314
CREATED:20240618T013449Z
LAST-MODIFIED:20240618T013449Z
UID:10000089-1720767600-1720771200@mctsa.com
SUMMARY:Early Bird Swim
DESCRIPTION:Slice through the quiet water as the sun paints the sky. An early morning swim is a refreshing way to jumpstart your day. Enjoy the peacefulness and solitude before the world wakes up\, all while getting a fantastic low-impact workout. \nMust be a member of MCTSA and 16 or over please. For information about becoming a member click on the link below. \nhttps://mctsa.com/membership/\n  \nAll abilities are welcome and free swim or set workouts available.  \nThe cost will be $40.00 payable in-person  \nor by PayPal @ paypal.me/gwfederico \n  \nFor more information contact gwfederico@gmail.com     \nPlease spread the word\, the more the…fun! 
URL:https://mctsa.com/event/early-bird-swim-2/2024-07-12/
ATTACH;FMTTYPE=image/jpeg:https://mctsa.com/wp-content/uploads/2024/05/d2xv332okde21.jpg
ORGANIZER;CN="Guy Federico":MAILTO:gwfederico@gmail.com
END:VEVENT
BEGIN:VEVENT
DTSTART;TZID=America/New_York:20240711T190000
DTEND;TZID=America/New_York:20240711T210000
DTSTAMP:20260419T181314
CREATED:20240301T004603Z
LAST-MODIFIED:20240707T174442Z
UID:10000022-1720724400-1720731600@mctsa.com
SUMMARY:Ladies' Social "Wish you were here"
DESCRIPTION:Ladies\, bring a bottle of wine or your favorite beverage to share\, have a snack and paint with us!
URL:https://mctsa.com/event/ladies-social/
ATTACH;FMTTYPE=image/jpeg:https://mctsa.com/wp-content/uploads/2024/02/Dandilions.jpg
END:VEVENT
BEGIN:VEVENT
DTSTART;TZID=America/New_York:20240710T070000
DTEND;TZID=America/New_York:20240710T080000
DTSTAMP:20260419T181314
CREATED:20240618T013449Z
LAST-MODIFIED:20240618T013449Z
UID:10000088-1720594800-1720598400@mctsa.com
SUMMARY:Early Bird Swim
DESCRIPTION:Slice through the quiet water as the sun paints the sky. An early morning swim is a refreshing way to jumpstart your day. Enjoy the peacefulness and solitude before the world wakes up\, all while getting a fantastic low-impact workout. \nMust be a member of MCTSA and 16 or over please. For information about becoming a member click on the link below. \nhttps://mctsa.com/membership/\n  \nAll abilities are welcome and free swim or set workouts available.  \nThe cost will be $40.00 payable in-person  \nor by PayPal @ paypal.me/gwfederico \n  \nFor more information contact gwfederico@gmail.com     \nPlease spread the word\, the more the…fun! 
URL:https://mctsa.com/event/early-bird-swim-2/2024-07-10/
ATTACH;FMTTYPE=image/jpeg:https://mctsa.com/wp-content/uploads/2024/05/d2xv332okde21.jpg
ORGANIZER;CN="Guy Federico":MAILTO:gwfederico@gmail.com
END:VEVENT
BEGIN:VEVENT
DTSTART;TZID=America/New_York:20240708T170000
DTEND;TZID=America/New_York:20240708T200000
DTSTAMP:20260419T181314
CREATED:20240707T173735Z
LAST-MODIFIED:20240707T173735Z
UID:10000117-1720458000-1720468800@mctsa.com
SUMMARY:Swim & Dive Silent Auction and Raffle
DESCRIPTION:The Swim and Dive Teams will be holding their annual silent auction and raffle\, starting at 5pm. The pavilion and tennis courts are reserved for the event\, but the pool will remain open through normal hours\, closing at 8pm.  \nThe silent auction and raffle is open to all members and we hope to see you there.
URL:https://mctsa.com/event/swim-dive-silent-auction-and-raffle/
LOCATION:mct pool
ATTACH;FMTTYPE=image/jpeg:https://mctsa.com/wp-content/uploads/2024/07/360_F_639139067_0dMgHLcXumn7VBOw7XyKDJTaJiEppllG.jpg
ORGANIZER;CN="Cynthia Glenn":MAILTO:swimrepmct@gmail.com
END:VEVENT
BEGIN:VEVENT
DTSTART;TZID=America/New_York:20240708T120000
DTEND;TZID=America/New_York:20240708T150000
DTSTAMP:20260419T181314
CREATED:20240227T003919Z
LAST-MODIFIED:20240227T003930Z
UID:10000004-1720440000-1720450800@mctsa.com
SUMMARY:KinderCare Monday.  Pool Opens to Members at 3 PM.
DESCRIPTION:
URL:https://mctsa.com/event/kinder-care-monday-pool-opens-to-members-at-3-pm-3/
END:VEVENT
BEGIN:VEVENT
DTSTART;TZID=America/New_York:20240708T070000
DTEND;TZID=America/New_York:20240708T080000
DTSTAMP:20260419T181314
CREATED:20240618T013449Z
LAST-MODIFIED:20240618T013449Z
UID:10000087-1720422000-1720425600@mctsa.com
SUMMARY:Early Bird Swim
DESCRIPTION:Slice through the quiet water as the sun paints the sky. An early morning swim is a refreshing way to jumpstart your day. Enjoy the peacefulness and solitude before the world wakes up\, all while getting a fantastic low-impact workout. \nMust be a member of MCTSA and 16 or over please. For information about becoming a member click on the link below. \nhttps://mctsa.com/membership/\n  \nAll abilities are welcome and free swim or set workouts available.  \nThe cost will be $40.00 payable in-person  \nor by PayPal @ paypal.me/gwfederico \n  \nFor more information contact gwfederico@gmail.com     \nPlease spread the word\, the more the…fun! 
URL:https://mctsa.com/event/early-bird-swim-2/2024-07-08/
ATTACH;FMTTYPE=image/jpeg:https://mctsa.com/wp-content/uploads/2024/05/d2xv332okde21.jpg
ORGANIZER;CN="Guy Federico":MAILTO:gwfederico@gmail.com
END:VEVENT
BEGIN:VEVENT
DTSTART;VALUE=DATE:20240708
DTEND;VALUE=DATE:20240709
DTSTAMP:20260419T181314
CREATED:20240524T004454Z
LAST-MODIFIED:20240524T004454Z
UID:10000106-1720396800-1720483199@mctsa.com
SUMMARY:Sign Up for the Snack Bar!
DESCRIPTION:The 2024 pool season is upon us\, and we are excited to open the snack bar with the help of our volunteers. This is an ALL-VOLUNTEER endeavor\, adults and kids are welcome to sign up. \nDetails: \n2-hour time slots\nSSL hours available to rising 6th grade – 12 grade students\n6th grade students must pair with an adult or older student\nIf slots are not filled\, Snack bar will be CLOSED\nCome out and support the pool by volunteering! \nIf you have any questions\, please text or call Doris Ryba (301) 467-4241\, Tina Webb (301) 252-1044\, or Shani Boone (202) 247-5834\nClick Here to Sign Up!
URL:https://mctsa.com/event/sign-up-for-the-snack-bar/2024-07-08/
END:VEVENT
BEGIN:VEVENT
DTSTART;TZID=America/New_York:20240707T160000
DTEND;TZID=America/New_York:20240707T200000
DTSTAMP:20260419T181314
CREATED:20240519T135017Z
LAST-MODIFIED:20240520T220808Z
UID:10000070-1720368000-1720382400@mctsa.com
SUMMARY:Dive Meet vs Westleigh
DESCRIPTION:Come support our Marlin dive team at the final home meet of the season!
URL:https://mctsa.com/event/dive-meet-vs-westleigh/
ORGANIZER;CN="Rachel Brightbill":MAILTO:rbrightbill@gmail.com
END:VEVENT
BEGIN:VEVENT
DTSTART;TZID=America/New_York:20240706T090000
DTEND;TZID=America/New_York:20240706T120000
DTSTAMP:20260419T181314
CREATED:20240520T215200Z
LAST-MODIFIED:20240524T004158Z
UID:10000074-1720256400-1720267200@mctsa.com
SUMMARY:A Swim Meet vs Clarksburg Village
DESCRIPTION:The Marlins are back in the water for their second home meet of the season! Dive in and cheer them on!
URL:https://mctsa.com/event/a-meet-vs-clarksburg-village/
END:VEVENT
BEGIN:VEVENT
DTSTART;TZID=America/New_York:20240705T080000
DTEND;TZID=America/New_York:20240705T170000
DTSTAMP:20260419T181314
CREATED:20240227T231307Z
LAST-MODIFIED:20240301T225941Z
UID:10000015-1720166400-1720198800@mctsa.com
SUMMARY:Friday Night Food Truck- The Crepe Shoppe
DESCRIPTION:
URL:https://mctsa.com/event/friday-night-food-truck-4/
ATTACH;FMTTYPE=image/png:https://mctsa.com/wp-content/uploads/2024/02/CSLogo_WhiteonK_512x275.png
END:VEVENT
BEGIN:VEVENT
DTSTART;TZID=America/New_York:20240705T070000
DTEND;TZID=America/New_York:20240705T080000
DTSTAMP:20260419T181314
CREATED:20240618T013449Z
LAST-MODIFIED:20240618T013449Z
UID:10000086-1720162800-1720166400@mctsa.com
SUMMARY:Early Bird Swim
DESCRIPTION:Slice through the quiet water as the sun paints the sky. An early morning swim is a refreshing way to jumpstart your day. Enjoy the peacefulness and solitude before the world wakes up\, all while getting a fantastic low-impact workout. \nMust be a member of MCTSA and 16 or over please. For information about becoming a member click on the link below. \nhttps://mctsa.com/membership/\n  \nAll abilities are welcome and free swim or set workouts available.  \nThe cost will be $40.00 payable in-person  \nor by PayPal @ paypal.me/gwfederico \n  \nFor more information contact gwfederico@gmail.com     \nPlease spread the word\, the more the…fun! 
URL:https://mctsa.com/event/early-bird-swim-2/2024-07-05/
ATTACH;FMTTYPE=image/jpeg:https://mctsa.com/wp-content/uploads/2024/05/d2xv332okde21.jpg
ORGANIZER;CN="Guy Federico":MAILTO:gwfederico@gmail.com
END:VEVENT
BEGIN:VEVENT
DTSTART;VALUE=DATE:20240704
DTEND;VALUE=DATE:20240705
DTSTAMP:20260419T181314
CREATED:20240227T232648Z
LAST-MODIFIED:20240703T221548Z
UID:10000023-1720051200-1720137599@mctsa.com
SUMMARY:Independence Day at the Creek
DESCRIPTION:
URL:https://mctsa.com/event/pool-games-and-contests/
LOCATION:mct pool
ATTACH;FMTTYPE=image/png:https://mctsa.com/wp-content/uploads/2024/02/4thflier.png
ORGANIZER;CN="Kristin Midas":MAILTO:social@mctsa.com
END:VEVENT
BEGIN:VEVENT
DTSTART;TZID=America/New_York:20240703T070000
DTEND;TZID=America/New_York:20240703T080000
DTSTAMP:20260419T181314
CREATED:20240618T013449Z
LAST-MODIFIED:20240618T013449Z
UID:10000085-1719990000-1719993600@mctsa.com
SUMMARY:Early Bird Swim
DESCRIPTION:Slice through the quiet water as the sun paints the sky. An early morning swim is a refreshing way to jumpstart your day. Enjoy the peacefulness and solitude before the world wakes up\, all while getting a fantastic low-impact workout. \nMust be a member of MCTSA and 16 or over please. For information about becoming a member click on the link below. \nhttps://mctsa.com/membership/\n  \nAll abilities are welcome and free swim or set workouts available.  \nThe cost will be $40.00 payable in-person  \nor by PayPal @ paypal.me/gwfederico \n  \nFor more information contact gwfederico@gmail.com     \nPlease spread the word\, the more the…fun! 
URL:https://mctsa.com/event/early-bird-swim-2/2024-07-03/
ATTACH;FMTTYPE=image/jpeg:https://mctsa.com/wp-content/uploads/2024/05/d2xv332okde21.jpg
ORGANIZER;CN="Guy Federico":MAILTO:gwfederico@gmail.com
END:VEVENT
BEGIN:VEVENT
DTSTART;TZID=America/New_York:20240701T120000
DTEND;TZID=America/New_York:20240701T150000
DTSTAMP:20260419T181314
CREATED:20240227T003847Z
LAST-MODIFIED:20240227T005324Z
UID:10000003-1719835200-1719846000@mctsa.com
SUMMARY:Kinder Care Monday.  Pool Opens to Members at 3 PM.
DESCRIPTION:
URL:https://mctsa.com/event/kinder-care-monday-pool-opens-to-members-at-3-pm-2/
END:VEVENT
BEGIN:VEVENT
DTSTART;TZID=America/New_York:20240701T070000
DTEND;TZID=America/New_York:20240701T080000
DTSTAMP:20260419T181314
CREATED:20240618T013449Z
LAST-MODIFIED:20240618T013449Z
UID:10000084-1719817200-1719820800@mctsa.com
SUMMARY:Early Bird Swim
DESCRIPTION:Slice through the quiet water as the sun paints the sky. An early morning swim is a refreshing way to jumpstart your day. Enjoy the peacefulness and solitude before the world wakes up\, all while getting a fantastic low-impact workout. \nMust be a member of MCTSA and 16 or over please. For information about becoming a member click on the link below. \nhttps://mctsa.com/membership/\n  \nAll abilities are welcome and free swim or set workouts available.  \nThe cost will be $40.00 payable in-person  \nor by PayPal @ paypal.me/gwfederico \n  \nFor more information contact gwfederico@gmail.com     \nPlease spread the word\, the more the…fun! 
URL:https://mctsa.com/event/early-bird-swim-2/2024-07-01/
ATTACH;FMTTYPE=image/jpeg:https://mctsa.com/wp-content/uploads/2024/05/d2xv332okde21.jpg
ORGANIZER;CN="Guy Federico":MAILTO:gwfederico@gmail.com
END:VEVENT
BEGIN:VEVENT
DTSTART;VALUE=DATE:20240701
DTEND;VALUE=DATE:20240702
DTSTAMP:20260419T181314
CREATED:20240524T004454Z
LAST-MODIFIED:20240524T004454Z
UID:10000105-1719792000-1719878399@mctsa.com
SUMMARY:Sign Up for the Snack Bar!
DESCRIPTION:The 2024 pool season is upon us\, and we are excited to open the snack bar with the help of our volunteers. This is an ALL-VOLUNTEER endeavor\, adults and kids are welcome to sign up. \nDetails: \n2-hour time slots\nSSL hours available to rising 6th grade – 12 grade students\n6th grade students must pair with an adult or older student\nIf slots are not filled\, Snack bar will be CLOSED\nCome out and support the pool by volunteering! \nIf you have any questions\, please text or call Doris Ryba (301) 467-4241\, Tina Webb (301) 252-1044\, or Shani Boone (202) 247-5834\nClick Here to Sign Up!
URL:https://mctsa.com/event/sign-up-for-the-snack-bar/2024-07-01/
END:VEVENT
BEGIN:VEVENT
DTSTART;TZID=America/New_York:20240630T160000
DTEND;TZID=America/New_York:20240630T200000
DTSTAMP:20260419T181314
CREATED:20240519T134911Z
LAST-MODIFIED:20240520T220723Z
UID:10000069-1719763200-1719777600@mctsa.com
SUMMARY:Dive Meet vs Potomac
DESCRIPTION:Come support our Marlin divers at the second home meet of the season!
URL:https://mctsa.com/event/dive-meet-vs-potomac/
ORGANIZER;CN="Rachel Brightbill":MAILTO:rbrightbill@gmail.com
END:VEVENT
BEGIN:VEVENT
DTSTART;TZID=America/New_York:20240630T063000
DTEND;TZID=America/New_York:20240630T130000
DTSTAMP:20260419T181314
CREATED:20240519T133852Z
LAST-MODIFIED:20240519T133852Z
UID:10000062-1719729000-1719752400@mctsa.com
SUMMARY:Atlantic Edge Dive Class
DESCRIPTION:Atlantic Edge will be utilizing the dive well and the first two swim lanes for SCUBA classes.
URL:https://mctsa.com/event/atlantic-edge-dive-class/
ORGANIZER;CN="Mike Mazza":MAILTO:mulligans4me2@hotmail.com
END:VEVENT
BEGIN:VEVENT
DTSTART;TZID=America/New_York:20240628T173000
DTEND;TZID=America/New_York:20240628T193000
DTSTAMP:20260419T181314
CREATED:20240227T231246Z
LAST-MODIFIED:20240624T221228Z
UID:10000014-1719595800-1719603000@mctsa.com
SUMMARY:Friday Night Food Truck- Virginia Grill
DESCRIPTION:
URL:https://mctsa.com/event/friday-night-food-truck-3/
CATEGORIES:Food Truck
ATTACH;FMTTYPE=image/jpeg:https://mctsa.com/wp-content/uploads/2024/02/virginiagrill.jpg
END:VEVENT
BEGIN:VEVENT
DTSTART;TZID=America/New_York:20240628T070000
DTEND;TZID=America/New_York:20240628T080000
DTSTAMP:20260419T181314
CREATED:20240618T013449Z
LAST-MODIFIED:20240618T013449Z
UID:10000083-1719558000-1719561600@mctsa.com
SUMMARY:Early Bird Swim
DESCRIPTION:Slice through the quiet water as the sun paints the sky. An early morning swim is a refreshing way to jumpstart your day. Enjoy the peacefulness and solitude before the world wakes up\, all while getting a fantastic low-impact workout. \nMust be a member of MCTSA and 16 or over please. For information about becoming a member click on the link below. \nhttps://mctsa.com/membership/\n  \nAll abilities are welcome and free swim or set workouts available.  \nThe cost will be $40.00 payable in-person  \nor by PayPal @ paypal.me/gwfederico \n  \nFor more information contact gwfederico@gmail.com     \nPlease spread the word\, the more the…fun! 
URL:https://mctsa.com/event/early-bird-swim-2/2024-06-28/
ATTACH;FMTTYPE=image/jpeg:https://mctsa.com/wp-content/uploads/2024/05/d2xv332okde21.jpg
ORGANIZER;CN="Guy Federico":MAILTO:gwfederico@gmail.com
END:VEVENT
BEGIN:VEVENT
DTSTART;TZID=America/New_York:20240626T070000
DTEND;TZID=America/New_York:20240626T080000
DTSTAMP:20260419T181314
CREATED:20240618T013449Z
LAST-MODIFIED:20240618T013449Z
UID:10000082-1719385200-1719388800@mctsa.com
SUMMARY:Early Bird Swim
DESCRIPTION:Slice through the quiet water as the sun paints the sky. An early morning swim is a refreshing way to jumpstart your day. Enjoy the peacefulness and solitude before the world wakes up\, all while getting a fantastic low-impact workout. \nMust be a member of MCTSA and 16 or over please. For information about becoming a member click on the link below. \nhttps://mctsa.com/membership/\n  \nAll abilities are welcome and free swim or set workouts available.  \nThe cost will be $40.00 payable in-person  \nor by PayPal @ paypal.me/gwfederico \n  \nFor more information contact gwfederico@gmail.com     \nPlease spread the word\, the more the…fun! 
URL:https://mctsa.com/event/early-bird-swim-2/2024-06-26/
ATTACH;FMTTYPE=image/jpeg:https://mctsa.com/wp-content/uploads/2024/05/d2xv332okde21.jpg
ORGANIZER;CN="Guy Federico":MAILTO:gwfederico@gmail.com
END:VEVENT
BEGIN:VEVENT
DTSTART;TZID=America/New_York:20240625T190000
DTEND;TZID=America/New_York:20240625T194500
DTSTAMP:20260419T181314
CREATED:20240524T004106Z
LAST-MODIFIED:20240524T004108Z
UID:10000033-1719342000-1719344700@mctsa.com
SUMMARY:Water Aerobics
DESCRIPTION:Splash into shape with a high-energy water aerobics class! The water keeps your joints happy while you move to the beat\, toning your whole body. Get ready for laughs\, cool water\, and a workout that feels more like a pool party than exercise.
URL:https://mctsa.com/event/water-aerobics-6/
ORGANIZER;CN="Kristin Midas":MAILTO:social@mctsa.com
END:VEVENT
BEGIN:VEVENT
DTSTART;TZID=America/New_York:20240624T120000
DTEND;TZID=America/New_York:20240624T150000
DTSTAMP:20260419T181314
CREATED:20240227T003816Z
LAST-MODIFIED:20240227T003816Z
UID:10000002-1719230400-1719241200@mctsa.com
SUMMARY:Kinder Care Monday.  Pool Opens to Members at 3 PM.
DESCRIPTION:
URL:https://mctsa.com/event/kinder-care-monday-pool-opens-to-members-at-3-pm/
LOCATION:mct pool
END:VEVENT
BEGIN:VEVENT
DTSTART;TZID=America/New_York:20240624T080000
DTEND;TZID=America/New_York:20240627T150000
DTSTAMP:20260419T181314
CREATED:20240519T134306Z
LAST-MODIFIED:20240519T134306Z
UID:10000066-1719216000-1719500400@mctsa.com
SUMMARY:June SCUBA Camp
DESCRIPTION:Atlantic Edge will be utilizing the dive well and the first swim lane for their June SCUBA training.
URL:https://mctsa.com/event/june-scuba-camp/
ORGANIZER;CN="Mike Mazza":MAILTO:mulligans4me2@hotmail.com
END:VEVENT
BEGIN:VEVENT
DTSTART;TZID=America/New_York:20240624T070000
DTEND;TZID=America/New_York:20240624T080000
DTSTAMP:20260419T181314
CREATED:20240618T013449Z
LAST-MODIFIED:20240618T013449Z
UID:10000079-1719212400-1719216000@mctsa.com
SUMMARY:Early Bird Swim
DESCRIPTION:Slice through the quiet water as the sun paints the sky. An early morning swim is a refreshing way to jumpstart your day. Enjoy the peacefulness and solitude before the world wakes up\, all while getting a fantastic low-impact workout. \nMust be a member of MCTSA and 16 or over please. For information about becoming a member click on the link below. \nhttps://mctsa.com/membership/\n  \nAll abilities are welcome and free swim or set workouts available.  \nThe cost will be $40.00 payable in-person  \nor by PayPal @ paypal.me/gwfederico \n  \nFor more information contact gwfederico@gmail.com     \nPlease spread the word\, the more the…fun! 
URL:https://mctsa.com/event/early-bird-swim-2/2024-06-24/
ATTACH;FMTTYPE=image/jpeg:https://mctsa.com/wp-content/uploads/2024/05/d2xv332okde21.jpg
ORGANIZER;CN="Guy Federico":MAILTO:gwfederico@gmail.com
END:VEVENT
BEGIN:VEVENT
DTSTART;VALUE=DATE:20240624
DTEND;VALUE=DATE:20240625
DTSTAMP:20260419T181314
CREATED:20240524T004454Z
LAST-MODIFIED:20240524T004454Z
UID:10000104-1719187200-1719273599@mctsa.com
SUMMARY:Sign Up for the Snack Bar!
DESCRIPTION:The 2024 pool season is upon us\, and we are excited to open the snack bar with the help of our volunteers. This is an ALL-VOLUNTEER endeavor\, adults and kids are welcome to sign up. \nDetails: \n2-hour time slots\nSSL hours available to rising 6th grade – 12 grade students\n6th grade students must pair with an adult or older student\nIf slots are not filled\, Snack bar will be CLOSED\nCome out and support the pool by volunteering! \nIf you have any questions\, please text or call Doris Ryba (301) 467-4241\, Tina Webb (301) 252-1044\, or Shani Boone (202) 247-5834\nClick Here to Sign Up!
URL:https://mctsa.com/event/sign-up-for-the-snack-bar/2024-06-24/
END:VEVENT
BEGIN:VEVENT
DTSTART;TZID=America/New_York:20240621T173000
DTEND;TZID=America/New_York:20240621T193000
DTSTAMP:20260419T181314
CREATED:20240227T231220Z
LAST-MODIFIED:20240301T230525Z
UID:10000013-1718991000-1718998200@mctsa.com
SUMMARY:Friday Night Food Truck - Q'Sabroso
DESCRIPTION:
URL:https://mctsa.com/event/friday-night-food-truck-2/
CATEGORIES:Food Truck
ATTACH;FMTTYPE=image/png:https://mctsa.com/wp-content/uploads/2024/02/qsabroso.png
END:VEVENT
BEGIN:VEVENT
DTSTART;TZID=America/New_York:20240620T130000
DTEND;TZID=America/New_York:20240620T150000
DTSTAMP:20260419T181314
CREATED:20240227T232023Z
LAST-MODIFIED:20240227T232023Z
UID:10000019-1718888400-1718895600@mctsa.com
SUMMARY:Kids Canvas Painting and Fingernail art
DESCRIPTION:
URL:https://mctsa.com/event/kids-canvas-painting-and-fingernail-art/
LOCATION:mct pool
ORGANIZER;CN="Kristin Midas":MAILTO:social@mctsa.com
END:VEVENT
BEGIN:VEVENT
DTSTART;TZID=America/New_York:20240618T080000
DTEND;TZID=America/New_York:20240618T220000
DTSTAMP:20260419T181314
CREATED:20240612T023941Z
LAST-MODIFIED:20240618T013209Z
UID:10000116-1718697600-1718748000@mctsa.com
SUMMARY:Pop-Up Movie Night @ The Creek
DESCRIPTION:
URL:https://mctsa.com/event/pop-up-movie-night-the-creek/
ORGANIZER;CN="Kristin Midas":MAILTO:social@mctsa.com
END:VEVENT
END:VCALENDAR