BEGIN:VCALENDAR
VERSION:2.0
PRODID:-//Mill Creek Towne Swim Association - Home of the Marlins - ECPv6.15.20//NONSGML v1.0//EN
CALSCALE:GREGORIAN
METHOD:PUBLISH
X-ORIGINAL-URL:https://mctsa.com
X-WR-CALDESC:Events for Mill Creek Towne Swim Association - Home of the Marlins
REFRESH-INTERVAL;VALUE=DURATION:PT1H
X-Robots-Tag:noindex
X-PUBLISHED-TTL:PT1H
BEGIN:VTIMEZONE
TZID:America/New_York
BEGIN:DAYLIGHT
TZOFFSETFROM:-0500
TZOFFSETTO:-0400
TZNAME:EDT
DTSTART:20240310T070000
END:DAYLIGHT
BEGIN:STANDARD
TZOFFSETFROM:-0400
TZOFFSETTO:-0500
TZNAME:EST
DTSTART:20241103T060000
END:STANDARD
BEGIN:DAYLIGHT
TZOFFSETFROM:-0500
TZOFFSETTO:-0400
TZNAME:EDT
DTSTART:20250309T070000
END:DAYLIGHT
BEGIN:STANDARD
TZOFFSETFROM:-0400
TZOFFSETTO:-0500
TZNAME:EST
DTSTART:20251102T060000
END:STANDARD
BEGIN:DAYLIGHT
TZOFFSETFROM:-0500
TZOFFSETTO:-0400
TZNAME:EDT
DTSTART:20260308T070000
END:DAYLIGHT
BEGIN:STANDARD
TZOFFSETFROM:-0400
TZOFFSETTO:-0500
TZNAME:EST
DTSTART:20261101T060000
END:STANDARD
BEGIN:DAYLIGHT
TZOFFSETFROM:-0500
TZOFFSETTO:-0400
TZNAME:EDT
DTSTART:20270314T070000
END:DAYLIGHT
BEGIN:STANDARD
TZOFFSETFROM:-0400
TZOFFSETTO:-0500
TZNAME:EST
DTSTART:20271107T060000
END:STANDARD
END:VTIMEZONE
BEGIN:VEVENT
DTSTART;TZID=America/New_York:20250717T190000
DTEND;TZID=America/New_York:20250717T194500
DTSTAMP:20260419T144805
CREATED:20240524T004120Z
LAST-MODIFIED:20250531T112939Z
UID:10000127-1752778800-1752781500@mctsa.com
SUMMARY:Water Aerobics
DESCRIPTION:Splash into shape with a high-energy water aerobics class! The water keeps your joints happy while you move to the beat\, toning your whole body. Get ready for laughs\, cool water\, and a workout that feels more like a pool party than exercise.
URL:https://mctsa.com/event/water-aerobics-7/2025-07-17/
ORGANIZER;CN="Kristin Midas":MAILTO:social@mctsa.com
END:VEVENT
BEGIN:VEVENT
DTSTART;TZID=America/New_York:20250718T070000
DTEND;TZID=America/New_York:20250718T080000
DTSTAMP:20260419T144805
CREATED:20250419T113804Z
LAST-MODIFIED:20250518T120715Z
UID:10000133-1752822000-1752825600@mctsa.com
SUMMARY:Early Bird Swim
DESCRIPTION:Slice through the quiet water as the sun paints the sky. An early morning swim is a refreshing way to jumpstart your day. Enjoy the peacefulness and solitude before the world wakes up\, all while getting a fantastic low-impact workout. \nMust be a member of MCTSA and 16 or over please. For information about becoming a member click on the link below. \nhttps://mctsa.com/membership/\n  \nAll abilities are welcome and free swim or set workouts available.  \nThe cost will be $40.00 payable in-person  \nor by PayPal @ paypal.me/gwfederico \n  \nFor more information contact gwfederico@gmail.com     \nPlease spread the word\, the more the…fun! 
URL:https://mctsa.com/event/early-bird-swim-2-4/2025-07-18/
ATTACH;FMTTYPE=image/jpeg:https://mctsa.com/wp-content/uploads/2024/05/d2xv332okde21.jpg
ORGANIZER;CN="Guy Federico":MAILTO:gwfederico@gmail.com
END:VEVENT
BEGIN:VEVENT
DTSTART;TZID=America/New_York:20250718T170000
DTEND;TZID=America/New_York:20250718T193000
DTSTAMP:20260419T144805
CREATED:20250518T122235Z
LAST-MODIFIED:20250518T122235Z
UID:10000150-1752858000-1752867000@mctsa.com
SUMMARY:Food Truck Friday - Palmetto Cuisine
DESCRIPTION:
URL:https://mctsa.com/event/food-truck-friday-palmetto-cuisine/
END:VEVENT
BEGIN:VEVENT
DTSTART;TZID=America/New_York:20250720T063000
DTEND;TZID=America/New_York:20250720T153000
DTSTAMP:20260419T144805
CREATED:20250527T232317Z
LAST-MODIFIED:20250527T232317Z
UID:10000154-1752993000-1753025400@mctsa.com
SUMMARY:Atlantic Edge Scuba Training
DESCRIPTION:We are proud to host Atlantic Edge Scuba diving lessons at Mill Creek Towne. These lessons occur on Sundays throughout the season. Atlantic Edge will be using the dive well and the first two lap lanes from 6:30am to 1:00 PM. They will transition to classroom learning at two tables under the pavilion. Atlantic Edge is an important financial partner of Mill Creek Towne Pool! \nSign up at https://atlanticedge.com/courses/learn-to-scuba-dive
URL:https://mctsa.com/event/atlantic-edge-scuba-training/2025-07-20/
END:VEVENT
BEGIN:VEVENT
DTSTART;TZID=America/New_York:20250721T070000
DTEND;TZID=America/New_York:20250721T084500
DTSTAMP:20260419T144805
CREATED:20250419T113525Z
LAST-MODIFIED:20250518T120933Z
UID:10000139-1753081200-1753087500@mctsa.com
SUMMARY:Early Bird Swim
DESCRIPTION:Slice through the quiet water as the sun paints the sky. An early morning swim is a refreshing way to jumpstart your day. Enjoy the peacefulness and solitude before the world wakes up\, all while getting a fantastic low-impact workout. \nMust be a member of MCTSA and 16 or over please. For information about becoming a member click on the link below. \nhttps://mctsa.com/membership/\n  \nAll abilities are welcome and free swim or set workouts available.  \nThe cost will be $40.00 payable in-person  \nor by PayPal @ paypal.me/gwfederico \n  \nFor more information contact gwfederico@gmail.com     \nPlease spread the word\, the more the…fun! 
URL:https://mctsa.com/event/early-bird-swim-2-2/2025-07-21/
ATTACH;FMTTYPE=image/jpeg:https://mctsa.com/wp-content/uploads/2024/05/d2xv332okde21.jpg
ORGANIZER;CN="Guy Federico":MAILTO:gwfederico@gmail.com
END:VEVENT
BEGIN:VEVENT
DTSTART;TZID=America/New_York:20250723T070000
DTEND;TZID=America/New_York:20250723T080000
DTSTAMP:20260419T144805
CREATED:20250419T113658Z
LAST-MODIFIED:20250625T215850Z
UID:10000144-1753254000-1753257600@mctsa.com
SUMMARY:Early Bird Swim
DESCRIPTION:Slice through the quiet water as the sun paints the sky. An early morning swim is a refreshing way to jumpstart your day. Enjoy the peacefulness and solitude before the world wakes up\, all while getting a fantastic low-impact workout. \nMust be a member of MCTSA and 16 or over please. For information about becoming a member click on the link below. \nhttps://mctsa.com/membership/\n  \nAll abilities are welcome and free swim or set workouts available.  \nThe cost will be $50.00 payable in-person  \nor by PayPal @ paypal.me/gwfederico \n  \nFor more information contact gwfederico@gmail.com     \nPlease spread the word\, the more the…fun! 
URL:https://mctsa.com/event/early-bird-swim-2-3/2025-07-23/
ATTACH;FMTTYPE=image/jpeg:https://mctsa.com/wp-content/uploads/2024/05/d2xv332okde21.jpg
ORGANIZER;CN="Guy Federico":MAILTO:gwfederico@gmail.com
END:VEVENT
BEGIN:VEVENT
DTSTART;TZID=America/New_York:20250724T190000
DTEND;TZID=America/New_York:20250724T194500
DTSTAMP:20260419T144805
CREATED:20240524T004120Z
LAST-MODIFIED:20250531T112939Z
UID:10000128-1753383600-1753386300@mctsa.com
SUMMARY:Water Aerobics
DESCRIPTION:Splash into shape with a high-energy water aerobics class! The water keeps your joints happy while you move to the beat\, toning your whole body. Get ready for laughs\, cool water\, and a workout that feels more like a pool party than exercise.
URL:https://mctsa.com/event/water-aerobics-7/2025-07-24/
ORGANIZER;CN="Kristin Midas":MAILTO:social@mctsa.com
END:VEVENT
BEGIN:VEVENT
DTSTART;TZID=America/New_York:20250725T070000
DTEND;TZID=America/New_York:20250725T080000
DTSTAMP:20260419T144805
CREATED:20250419T113804Z
LAST-MODIFIED:20250518T120715Z
UID:10000134-1753426800-1753430400@mctsa.com
SUMMARY:Early Bird Swim
DESCRIPTION:Slice through the quiet water as the sun paints the sky. An early morning swim is a refreshing way to jumpstart your day. Enjoy the peacefulness and solitude before the world wakes up\, all while getting a fantastic low-impact workout. \nMust be a member of MCTSA and 16 or over please. For information about becoming a member click on the link below. \nhttps://mctsa.com/membership/\n  \nAll abilities are welcome and free swim or set workouts available.  \nThe cost will be $40.00 payable in-person  \nor by PayPal @ paypal.me/gwfederico \n  \nFor more information contact gwfederico@gmail.com     \nPlease spread the word\, the more the…fun! 
URL:https://mctsa.com/event/early-bird-swim-2-4/2025-07-25/
ATTACH;FMTTYPE=image/jpeg:https://mctsa.com/wp-content/uploads/2024/05/d2xv332okde21.jpg
ORGANIZER;CN="Guy Federico":MAILTO:gwfederico@gmail.com
END:VEVENT
BEGIN:VEVENT
DTSTART;TZID=America/New_York:20250725T170000
DTEND;TZID=America/New_York:20250725T193000
DTSTAMP:20260419T144805
CREATED:20250518T122357Z
LAST-MODIFIED:20250712T112233Z
UID:10000151-1753462800-1753471800@mctsa.com
SUMMARY:Food Truck  - Q'Sabroso
DESCRIPTION:
URL:https://mctsa.com/event/food-truck-qsabroso/
END:VEVENT
BEGIN:VEVENT
DTSTART;TZID=America/New_York:20250727T063000
DTEND;TZID=America/New_York:20250727T153000
DTSTAMP:20260419T144805
CREATED:20250527T232317Z
LAST-MODIFIED:20250527T232317Z
UID:10000155-1753597800-1753630200@mctsa.com
SUMMARY:Atlantic Edge Scuba Training
DESCRIPTION:We are proud to host Atlantic Edge Scuba diving lessons at Mill Creek Towne. These lessons occur on Sundays throughout the season. Atlantic Edge will be using the dive well and the first two lap lanes from 6:30am to 1:00 PM. They will transition to classroom learning at two tables under the pavilion. Atlantic Edge is an important financial partner of Mill Creek Towne Pool! \nSign up at https://atlanticedge.com/courses/learn-to-scuba-dive
URL:https://mctsa.com/event/atlantic-edge-scuba-training/2025-07-27/
END:VEVENT
BEGIN:VEVENT
DTSTART;TZID=America/New_York:20250728T070000
DTEND;TZID=America/New_York:20250728T084500
DTSTAMP:20260419T144805
CREATED:20250419T113525Z
LAST-MODIFIED:20250518T120933Z
UID:10000140-1753686000-1753692300@mctsa.com
SUMMARY:Early Bird Swim
DESCRIPTION:Slice through the quiet water as the sun paints the sky. An early morning swim is a refreshing way to jumpstart your day. Enjoy the peacefulness and solitude before the world wakes up\, all while getting a fantastic low-impact workout. \nMust be a member of MCTSA and 16 or over please. For information about becoming a member click on the link below. \nhttps://mctsa.com/membership/\n  \nAll abilities are welcome and free swim or set workouts available.  \nThe cost will be $40.00 payable in-person  \nor by PayPal @ paypal.me/gwfederico \n  \nFor more information contact gwfederico@gmail.com     \nPlease spread the word\, the more the…fun! 
URL:https://mctsa.com/event/early-bird-swim-2-2/2025-07-28/
ATTACH;FMTTYPE=image/jpeg:https://mctsa.com/wp-content/uploads/2024/05/d2xv332okde21.jpg
ORGANIZER;CN="Guy Federico":MAILTO:gwfederico@gmail.com
END:VEVENT
BEGIN:VEVENT
DTSTART;TZID=America/New_York:20250730T070000
DTEND;TZID=America/New_York:20250730T080000
DTSTAMP:20260419T144805
CREATED:20250419T113658Z
LAST-MODIFIED:20250625T215850Z
UID:10000145-1753858800-1753862400@mctsa.com
SUMMARY:Early Bird Swim
DESCRIPTION:Slice through the quiet water as the sun paints the sky. An early morning swim is a refreshing way to jumpstart your day. Enjoy the peacefulness and solitude before the world wakes up\, all while getting a fantastic low-impact workout. \nMust be a member of MCTSA and 16 or over please. For information about becoming a member click on the link below. \nhttps://mctsa.com/membership/\n  \nAll abilities are welcome and free swim or set workouts available.  \nThe cost will be $50.00 payable in-person  \nor by PayPal @ paypal.me/gwfederico \n  \nFor more information contact gwfederico@gmail.com     \nPlease spread the word\, the more the…fun! 
URL:https://mctsa.com/event/early-bird-swim-2-3/2025-07-30/
ATTACH;FMTTYPE=image/jpeg:https://mctsa.com/wp-content/uploads/2024/05/d2xv332okde21.jpg
ORGANIZER;CN="Guy Federico":MAILTO:gwfederico@gmail.com
END:VEVENT
BEGIN:VEVENT
DTSTART;TZID=America/New_York:20250731T190000
DTEND;TZID=America/New_York:20250731T194500
DTSTAMP:20260419T144805
CREATED:20240524T004120Z
LAST-MODIFIED:20250531T112939Z
UID:10000129-1753988400-1753991100@mctsa.com
SUMMARY:Water Aerobics
DESCRIPTION:Splash into shape with a high-energy water aerobics class! The water keeps your joints happy while you move to the beat\, toning your whole body. Get ready for laughs\, cool water\, and a workout that feels more like a pool party than exercise.
URL:https://mctsa.com/event/water-aerobics-7/2025-07-31/
ORGANIZER;CN="Kristin Midas":MAILTO:social@mctsa.com
END:VEVENT
BEGIN:VEVENT
DTSTART;TZID=America/New_York:20250801T070000
DTEND;TZID=America/New_York:20250801T080000
DTSTAMP:20260419T144805
CREATED:20250419T113804Z
LAST-MODIFIED:20250518T120715Z
UID:10000135-1754031600-1754035200@mctsa.com
SUMMARY:Early Bird Swim
DESCRIPTION:Slice through the quiet water as the sun paints the sky. An early morning swim is a refreshing way to jumpstart your day. Enjoy the peacefulness and solitude before the world wakes up\, all while getting a fantastic low-impact workout. \nMust be a member of MCTSA and 16 or over please. For information about becoming a member click on the link below. \nhttps://mctsa.com/membership/\n  \nAll abilities are welcome and free swim or set workouts available.  \nThe cost will be $40.00 payable in-person  \nor by PayPal @ paypal.me/gwfederico \n  \nFor more information contact gwfederico@gmail.com     \nPlease spread the word\, the more the…fun! 
URL:https://mctsa.com/event/early-bird-swim-2-4/2025-08-01/
ATTACH;FMTTYPE=image/jpeg:https://mctsa.com/wp-content/uploads/2024/05/d2xv332okde21.jpg
ORGANIZER;CN="Guy Federico":MAILTO:gwfederico@gmail.com
END:VEVENT
BEGIN:VEVENT
DTSTART;TZID=America/New_York:20250804T070000
DTEND;TZID=America/New_York:20250804T084500
DTSTAMP:20260419T144805
CREATED:20250419T113525Z
LAST-MODIFIED:20250518T120933Z
UID:10000141-1754290800-1754297100@mctsa.com
SUMMARY:Early Bird Swim
DESCRIPTION:Slice through the quiet water as the sun paints the sky. An early morning swim is a refreshing way to jumpstart your day. Enjoy the peacefulness and solitude before the world wakes up\, all while getting a fantastic low-impact workout. \nMust be a member of MCTSA and 16 or over please. For information about becoming a member click on the link below. \nhttps://mctsa.com/membership/\n  \nAll abilities are welcome and free swim or set workouts available.  \nThe cost will be $40.00 payable in-person  \nor by PayPal @ paypal.me/gwfederico \n  \nFor more information contact gwfederico@gmail.com     \nPlease spread the word\, the more the…fun! 
URL:https://mctsa.com/event/early-bird-swim-2-2/2025-08-04/
ATTACH;FMTTYPE=image/jpeg:https://mctsa.com/wp-content/uploads/2024/05/d2xv332okde21.jpg
ORGANIZER;CN="Guy Federico":MAILTO:gwfederico@gmail.com
END:VEVENT
BEGIN:VEVENT
DTSTART;TZID=America/New_York:20250806T070000
DTEND;TZID=America/New_York:20250806T080000
DTSTAMP:20260419T144805
CREATED:20250419T113658Z
LAST-MODIFIED:20250625T215850Z
UID:10000146-1754463600-1754467200@mctsa.com
SUMMARY:Early Bird Swim
DESCRIPTION:Slice through the quiet water as the sun paints the sky. An early morning swim is a refreshing way to jumpstart your day. Enjoy the peacefulness and solitude before the world wakes up\, all while getting a fantastic low-impact workout. \nMust be a member of MCTSA and 16 or over please. For information about becoming a member click on the link below. \nhttps://mctsa.com/membership/\n  \nAll abilities are welcome and free swim or set workouts available.  \nThe cost will be $50.00 payable in-person  \nor by PayPal @ paypal.me/gwfederico \n  \nFor more information contact gwfederico@gmail.com     \nPlease spread the word\, the more the…fun! 
URL:https://mctsa.com/event/early-bird-swim-2-3/2025-08-06/
ATTACH;FMTTYPE=image/jpeg:https://mctsa.com/wp-content/uploads/2024/05/d2xv332okde21.jpg
ORGANIZER;CN="Guy Federico":MAILTO:gwfederico@gmail.com
END:VEVENT
BEGIN:VEVENT
DTSTART;TZID=America/New_York:20250807T190000
DTEND;TZID=America/New_York:20250807T194500
DTSTAMP:20260419T144805
CREATED:20240524T004120Z
LAST-MODIFIED:20250531T112939Z
UID:10000130-1754593200-1754595900@mctsa.com
SUMMARY:Water Aerobics
DESCRIPTION:Splash into shape with a high-energy water aerobics class! The water keeps your joints happy while you move to the beat\, toning your whole body. Get ready for laughs\, cool water\, and a workout that feels more like a pool party than exercise.
URL:https://mctsa.com/event/water-aerobics-7/2025-08-07/
ORGANIZER;CN="Kristin Midas":MAILTO:social@mctsa.com
END:VEVENT
BEGIN:VEVENT
DTSTART;TZID=America/New_York:20250808T070000
DTEND;TZID=America/New_York:20250808T080000
DTSTAMP:20260419T144805
CREATED:20250419T113804Z
LAST-MODIFIED:20250518T120715Z
UID:10000136-1754636400-1754640000@mctsa.com
SUMMARY:Early Bird Swim
DESCRIPTION:Slice through the quiet water as the sun paints the sky. An early morning swim is a refreshing way to jumpstart your day. Enjoy the peacefulness and solitude before the world wakes up\, all while getting a fantastic low-impact workout. \nMust be a member of MCTSA and 16 or over please. For information about becoming a member click on the link below. \nhttps://mctsa.com/membership/\n  \nAll abilities are welcome and free swim or set workouts available.  \nThe cost will be $40.00 payable in-person  \nor by PayPal @ paypal.me/gwfederico \n  \nFor more information contact gwfederico@gmail.com     \nPlease spread the word\, the more the…fun! 
URL:https://mctsa.com/event/early-bird-swim-2-4/2025-08-08/
ATTACH;FMTTYPE=image/jpeg:https://mctsa.com/wp-content/uploads/2024/05/d2xv332okde21.jpg
ORGANIZER;CN="Guy Federico":MAILTO:gwfederico@gmail.com
END:VEVENT
BEGIN:VEVENT
DTSTART;TZID=America/New_York:20250810T063000
DTEND;TZID=America/New_York:20250810T153000
DTSTAMP:20260419T144805
CREATED:20250527T232317Z
LAST-MODIFIED:20250527T232317Z
UID:10000156-1754807400-1754839800@mctsa.com
SUMMARY:Atlantic Edge Scuba Training
DESCRIPTION:We are proud to host Atlantic Edge Scuba diving lessons at Mill Creek Towne. These lessons occur on Sundays throughout the season. Atlantic Edge will be using the dive well and the first two lap lanes from 6:30am to 1:00 PM. They will transition to classroom learning at two tables under the pavilion. Atlantic Edge is an important financial partner of Mill Creek Towne Pool! \nSign up at https://atlanticedge.com/courses/learn-to-scuba-dive
URL:https://mctsa.com/event/atlantic-edge-scuba-training/2025-08-10/
END:VEVENT
BEGIN:VEVENT
DTSTART;TZID=America/New_York:20250824T063000
DTEND;TZID=America/New_York:20250824T153000
DTSTAMP:20260419T144805
CREATED:20250527T232317Z
LAST-MODIFIED:20250527T232317Z
UID:10000157-1756017000-1756049400@mctsa.com
SUMMARY:Atlantic Edge Scuba Training
DESCRIPTION:We are proud to host Atlantic Edge Scuba diving lessons at Mill Creek Towne. These lessons occur on Sundays throughout the season. Atlantic Edge will be using the dive well and the first two lap lanes from 6:30am to 1:00 PM. They will transition to classroom learning at two tables under the pavilion. Atlantic Edge is an important financial partner of Mill Creek Towne Pool! \nSign up at https://atlanticedge.com/courses/learn-to-scuba-dive
URL:https://mctsa.com/event/atlantic-edge-scuba-training/2025-08-24/
END:VEVENT
BEGIN:VEVENT
DTSTART;TZID=America/New_York:20250831T063000
DTEND;TZID=America/New_York:20250831T153000
DTSTAMP:20260419T144805
CREATED:20250527T232317Z
LAST-MODIFIED:20250527T232317Z
UID:10000158-1756621800-1756654200@mctsa.com
SUMMARY:Atlantic Edge Scuba Training
DESCRIPTION:We are proud to host Atlantic Edge Scuba diving lessons at Mill Creek Towne. These lessons occur on Sundays throughout the season. Atlantic Edge will be using the dive well and the first two lap lanes from 6:30am to 1:00 PM. They will transition to classroom learning at two tables under the pavilion. Atlantic Edge is an important financial partner of Mill Creek Towne Pool! \nSign up at https://atlanticedge.com/courses/learn-to-scuba-dive
URL:https://mctsa.com/event/atlantic-edge-scuba-training/2025-08-31/
END:VEVENT
BEGIN:VEVENT
DTSTART;TZID=America/New_York:20250901T170000
DTEND;TZID=America/New_York:20250901T174500
DTSTAMP:20260419T144805
CREATED:20240301T004857Z
LAST-MODIFIED:20250518T122656Z
UID:10000029-1756746000-1756748700@mctsa.com
SUMMARY:Dog Swim!
DESCRIPTION:Bring your own dog!
URL:https://mctsa.com/event/dog-swim/
ORGANIZER;CN="Kristin Midas":MAILTO:social@mctsa.com
END:VEVENT
BEGIN:VEVENT
DTSTART;TZID=America/New_York:20260509T080000
DTEND;TZID=America/New_York:20260509T170000
DTSTAMP:20260419T144805
CREATED:20260418T114445Z
LAST-MODIFIED:20260418T114445Z
UID:10000177-1778313600-1778346000@mctsa.com
SUMMARY:Spring Clean Up
DESCRIPTION:
URL:https://mctsa.com/event/spring-clean-up/
LOCATION:mct pool
ORGANIZER;CN="Kristin Midas":MAILTO:social@mctsa.com
END:VEVENT
BEGIN:VEVENT
DTSTART;TZID=America/New_York:20260531T080000
DTEND;TZID=America/New_York:20260531T130000
DTSTAMP:20260419T144805
CREATED:20260327T154429Z
LAST-MODIFIED:20260327T154429Z
UID:10000169-1780214400-1780232400@mctsa.com
SUMMARY:Atlantic Edge Scuba Training
DESCRIPTION:We are proud to host Atlantic Edge Scuba diving lessons at Mill Creek Towne. These lessons occur on Sundays throughout the season. Atlantic Edge will be using the dive well and the first two lap lanes from 6:30am to 1:00 PM. They will transition to classroom learning at two tables under the pavilion. Atlantic Edge is an important financial partner of Mill Creek Towne Pool! \nSign up at https://atlanticedge.com/courses/learn-to-scuba-dive
URL:https://mctsa.com/event/atlantic-edge-scuba-training-2/
END:VEVENT
BEGIN:VEVENT
DTSTART;TZID=America/New_York:20260607T080000
DTEND;TZID=America/New_York:20260607T130000
DTSTAMP:20260419T144805
CREATED:20260327T154457Z
LAST-MODIFIED:20260327T154457Z
UID:10000170-1780819200-1780837200@mctsa.com
SUMMARY:Atlantic Edge Scuba Training
DESCRIPTION:We are proud to host Atlantic Edge Scuba diving lessons at Mill Creek Towne. These lessons occur on Sundays throughout the season. Atlantic Edge will be using the dive well and the first two lap lanes from 6:30am to 1:00 PM. They will transition to classroom learning at two tables under the pavilion. Atlantic Edge is an important financial partner of Mill Creek Towne Pool! \nSign up at https://atlanticedge.com/courses/learn-to-scuba-dive
URL:https://mctsa.com/event/atlantic-edge-scuba-training-3/
END:VEVENT
BEGIN:VEVENT
DTSTART;TZID=America/New_York:20260621T080000
DTEND;TZID=America/New_York:20260621T130000
DTSTAMP:20260419T144805
CREATED:20260327T154524Z
LAST-MODIFIED:20260327T154524Z
UID:10000171-1782028800-1782046800@mctsa.com
SUMMARY:Atlantic Edge Scuba Training
DESCRIPTION:We are proud to host Atlantic Edge Scuba diving lessons at Mill Creek Towne. These lessons occur on Sundays throughout the season. Atlantic Edge will be using the dive well and the first two lap lanes from 6:30am to 1:00 PM. They will transition to classroom learning at two tables under the pavilion. Atlantic Edge is an important financial partner of Mill Creek Towne Pool! \nSign up at https://atlanticedge.com/courses/learn-to-scuba-dive
URL:https://mctsa.com/event/atlantic-edge-scuba-training-4/
END:VEVENT
BEGIN:VEVENT
DTSTART;TZID=America/New_York:20260705T080000
DTEND;TZID=America/New_York:20260705T130000
DTSTAMP:20260419T144805
CREATED:20260327T154600Z
LAST-MODIFIED:20260327T154600Z
UID:10000172-1783238400-1783256400@mctsa.com
SUMMARY:Atlantic Edge Scuba Training
DESCRIPTION:We are proud to host Atlantic Edge Scuba diving lessons at Mill Creek Towne. These lessons occur on Sundays throughout the season. Atlantic Edge will be using the dive well and the first two lap lanes from 6:30am to 1:00 PM. They will transition to classroom learning at two tables under the pavilion. Atlantic Edge is an important financial partner of Mill Creek Towne Pool! \nSign up at https://atlanticedge.com/courses/learn-to-scuba-dive
URL:https://mctsa.com/event/atlantic-edge-scuba-training-5/
END:VEVENT
BEGIN:VEVENT
DTSTART;TZID=America/New_York:20260718T080000
DTEND;TZID=America/New_York:20260718T130000
DTSTAMP:20260419T144805
CREATED:20260327T154625Z
LAST-MODIFIED:20260327T154808Z
UID:10000173-1784361600-1784379600@mctsa.com
SUMMARY:Atlantic Edge Scuba Training
DESCRIPTION:This training has moved to Saturday to accommodate the MDCL Divisional Dive meet hosted at MCT on 7/19. \nWe are proud to host Atlantic Edge Scuba diving lessons at Mill Creek Towne. These lessons occur on Sundays throughout the season. Atlantic Edge will be using the dive well and the first two lap lanes from 6:30am to 1:00 PM. They will transition to classroom learning at two tables under the pavilion. Atlantic Edge is an important financial partner of Mill Creek Towne Pool! \nSign up at https://atlanticedge.com/courses/learn-to-scuba-dive
URL:https://mctsa.com/event/atlantic-edge-scuba-training-6/
END:VEVENT
BEGIN:VEVENT
DTSTART;TZID=America/New_York:20260727T080000
DTEND;TZID=America/New_York:20260730T130000
DTSTAMP:20260419T144805
CREATED:20250531T113244Z
LAST-MODIFIED:20260327T154139Z
UID:10000161-1785139200-1785416400@mctsa.com
SUMMARY:Atlantic Edge Scuba Camp
DESCRIPTION:Atlantic Edge will be occupying the dive well and one swim lane until about 1PM.  They will move to the pavilion after that.
URL:https://mctsa.com/event/atlantic-edge-scuba-camp/
ORGANIZER;CN="Mike Mazza":MAILTO:mulligans4me2@hotmail.com
END:VEVENT
BEGIN:VEVENT
DTSTART;TZID=America/New_York:20260809T080000
DTEND;TZID=America/New_York:20260809T130000
DTSTAMP:20260419T144805
CREATED:20260327T154845Z
LAST-MODIFIED:20260327T154845Z
UID:10000174-1786262400-1786280400@mctsa.com
SUMMARY:Atlantic Edge Scuba Training
DESCRIPTION:We are proud to host Atlantic Edge Scuba diving lessons at Mill Creek Towne. These lessons occur on Sundays throughout the season. Atlantic Edge will be using the dive well and the first two lap lanes from 6:30am to 1:00 PM. They will transition to classroom learning at two tables under the pavilion. Atlantic Edge is an important financial partner of Mill Creek Towne Pool! \nSign up at https://atlanticedge.com/courses/learn-to-scuba-dive
URL:https://mctsa.com/event/atlantic-edge-scuba-training-7/
END:VEVENT
END:VCALENDAR