BEGIN:VCALENDAR
VERSION:2.0
PRODID:-//Mill Creek Towne Swim Association - Home of the Marlins - ECPv6.15.20//NONSGML v1.0//EN
CALSCALE:GREGORIAN
METHOD:PUBLISH
X-WR-CALNAME:Mill Creek Towne Swim Association - Home of the Marlins
X-ORIGINAL-URL:https://mctsa.com
X-WR-CALDESC:Events for Mill Creek Towne Swim Association - Home of the Marlins
REFRESH-INTERVAL;VALUE=DURATION:PT1H
X-Robots-Tag:noindex
X-PUBLISHED-TTL:PT1H
BEGIN:VTIMEZONE
TZID:America/New_York
BEGIN:DAYLIGHT
TZOFFSETFROM:-0500
TZOFFSETTO:-0400
TZNAME:EDT
DTSTART:20230312T070000
END:DAYLIGHT
BEGIN:STANDARD
TZOFFSETFROM:-0400
TZOFFSETTO:-0500
TZNAME:EST
DTSTART:20231105T060000
END:STANDARD
BEGIN:DAYLIGHT
TZOFFSETFROM:-0500
TZOFFSETTO:-0400
TZNAME:EDT
DTSTART:20240310T070000
END:DAYLIGHT
BEGIN:STANDARD
TZOFFSETFROM:-0400
TZOFFSETTO:-0500
TZNAME:EST
DTSTART:20241103T060000
END:STANDARD
BEGIN:DAYLIGHT
TZOFFSETFROM:-0500
TZOFFSETTO:-0400
TZNAME:EDT
DTSTART:20250309T070000
END:DAYLIGHT
BEGIN:STANDARD
TZOFFSETFROM:-0400
TZOFFSETTO:-0500
TZNAME:EST
DTSTART:20251102T060000
END:STANDARD
BEGIN:DAYLIGHT
TZOFFSETFROM:-0500
TZOFFSETTO:-0400
TZNAME:EDT
DTSTART:20260308T070000
END:DAYLIGHT
BEGIN:STANDARD
TZOFFSETFROM:-0400
TZOFFSETTO:-0500
TZNAME:EST
DTSTART:20261101T060000
END:STANDARD
END:VTIMEZONE
BEGIN:VEVENT
DTSTART;TZID=America/New_York:20250627T170000
DTEND;TZID=America/New_York:20250627T193000
DTSTAMP:20260419T214126
CREATED:20250518T121921Z
LAST-MODIFIED:20250625T215238Z
UID:10000148-1751043600-1751052600@mctsa.com
SUMMARY:Food Truck Friday - Plan B Sausages
DESCRIPTION:
URL:https://mctsa.com/event/food-truck-friday-jennifers-food-truck/
END:VEVENT
BEGIN:VEVENT
DTSTART;TZID=America/New_York:20250625T180000
DTEND;TZID=America/New_York:20250625T220000
DTSTAMP:20260419T214126
CREATED:20240520T220129Z
LAST-MODIFIED:20250625T214913Z
UID:10000077-1750874400-1750888800@mctsa.com
SUMMARY:B Meet vs Clarksburg Village
DESCRIPTION:Mark your calendars! The Marlins are hitting the pool for their swim meet. It’s gonna be a splash!  The pool will close at 4:00 PM.
URL:https://mctsa.com/event/b-meet-vs-flower-valley/
END:VEVENT
BEGIN:VEVENT
DTSTART;TZID=America/New_York:20250624T203000
DTEND;TZID=America/New_York:20250624T223000
DTSTAMP:20260419T214126
CREATED:20250419T115313Z
LAST-MODIFIED:20250531T112445Z
UID:10000132-1750797000-1750804200@mctsa.com
SUMMARY:Kids Movie Night
DESCRIPTION:Outdoor Movie Night for the family\, bring your friends! This event is open to the community. \nTuesday\, June 24\, 2025 \nCome and join us again for our summer movie\, Moana II
URL:https://mctsa.com/event/kids-movie-night-2/
ORGANIZER;CN="Kristin Midas":MAILTO:social@mctsa.com
END:VEVENT
BEGIN:VEVENT
DTSTART;TZID=America/New_York:20250622T160000
DTEND;TZID=America/New_York:20250622T190000
DTSTAMP:20260419T214126
CREATED:20250608T001702Z
LAST-MODIFIED:20250608T001702Z
UID:10000164-1750608000-1750618800@mctsa.com
SUMMARY:Dive Meet - Well Closed for Meet @ 2:45
DESCRIPTION:Come cheer on our Marlin divers as they shoot for perfect 10s!  The dive meet is from 4-6ish but the dive well will close at 2:45PM for warm ups.  Contact our dive reps if you’re interest in Dive!   \nDive Team
URL:https://mctsa.com/event/dive-meet-well-closed-for-meet-245/2025-06-22/
END:VEVENT
BEGIN:VEVENT
DTSTART;TZID=America/New_York:20250621T190000
DTEND;TZID=America/New_York:20250621T223000
DTSTAMP:20260419T214126
CREATED:20240227T231911Z
LAST-MODIFIED:20250531T112826Z
UID:10000018-1750532400-1750545000@mctsa.com
SUMMARY:Welcome Back Social/Derwood Derby  *Adults Only!*
DESCRIPTION:Bring your favorite game\, play some trivia\, or play some ping pong under the pavilion! \nSpecialty Drink Contest – \nThink you’ve got the best cocktail/mocktail? \nMix up a batch to share and let everyone vote for their favorite! \nAdults only (21 and over)
URL:https://mctsa.com/event/welcome-back-social-derwood-derby-adults-only/
ORGANIZER;CN="Kristin Midas":MAILTO:social@mctsa.com
END:VEVENT
BEGIN:VEVENT
DTSTART;TZID=America/New_York:20250620T173000
DTEND;TZID=America/New_York:20250620T190000
DTSTAMP:20260419T214126
CREATED:20250518T121744Z
LAST-MODIFIED:20250518T121744Z
UID:10000147-1750440600-1750446000@mctsa.com
SUMMARY:Food Truck Friday - Hello Food Truck
DESCRIPTION:
URL:https://mctsa.com/event/food-truck-friday-hello-food-truck/
END:VEVENT
BEGIN:VEVENT
DTSTART;TZID=America/New_York:20250615T063000
DTEND;TZID=America/New_York:20250615T153000
DTSTAMP:20260419T214126
CREATED:20250527T232317Z
LAST-MODIFIED:20250527T232317Z
UID:10000153-1749969000-1750001400@mctsa.com
SUMMARY:Atlantic Edge Scuba Training
DESCRIPTION:We are proud to host Atlantic Edge Scuba diving lessons at Mill Creek Towne. These lessons occur on Sundays throughout the season. Atlantic Edge will be using the dive well and the first two lap lanes from 6:30am to 1:00 PM. They will transition to classroom learning at two tables under the pavilion. Atlantic Edge is an important financial partner of Mill Creek Towne Pool! \nSign up at https://atlanticedge.com/courses/learn-to-scuba-dive
URL:https://mctsa.com/event/atlantic-edge-scuba-training/2025-06-15/
END:VEVENT
BEGIN:VEVENT
DTSTART;TZID=America/New_York:20250613T173000
DTEND;TZID=America/New_York:20250613T193000
DTSTAMP:20260419T214126
CREATED:20250419T114147Z
LAST-MODIFIED:20250518T121554Z
UID:10000120-1749835800-1749843000@mctsa.com
SUMMARY:Food Truck Friday - Q'Sabroso
DESCRIPTION:
URL:https://mctsa.com/event/food-truck-friday/
ORGANIZER;CN="Kristin Midas":MAILTO:social@mctsa.com
END:VEVENT
BEGIN:VEVENT
DTSTART;TZID=America/New_York:20250607T080000
DTEND;TZID=America/New_York:20250607T120000
DTSTAMP:20260419T214126
CREATED:20250527T232916Z
LAST-MODIFIED:20250527T232916Z
UID:10000160-1749283200-1749297600@mctsa.com
SUMMARY:2025 Swim Team Time Trials
DESCRIPTION:
URL:https://mctsa.com/event/2025-swim-team-time-trials/
END:VEVENT
BEGIN:VEVENT
DTSTART;TZID=America/New_York:20250604T190000
DTEND;TZID=America/New_York:20250604T200000
DTSTAMP:20260419T214126
CREATED:20250527T232835Z
LAST-MODIFIED:20250527T232835Z
UID:10000159-1749063600-1749067200@mctsa.com
SUMMARY:Swim & Dive Parent Meeting
DESCRIPTION:Swim parent participation is highly encouraged. Come meet the coach(es) and reps. Learn about the swim team schedule\, events and “how tos”. Learn more about volunteering and meet other families. Email a rep with any questions at swimrepmct@gmail.com
URL:https://mctsa.com/event/swim-dive-parent-meeting/
END:VEVENT
BEGIN:VEVENT
DTSTART;TZID=America/New_York:20250601T063000
DTEND;TZID=America/New_York:20250601T153000
DTSTAMP:20260419T214126
CREATED:20250527T232317Z
LAST-MODIFIED:20250527T232317Z
UID:10000152-1748759400-1748791800@mctsa.com
SUMMARY:Atlantic Edge Scuba Training
DESCRIPTION:We are proud to host Atlantic Edge Scuba diving lessons at Mill Creek Towne. These lessons occur on Sundays throughout the season. Atlantic Edge will be using the dive well and the first two lap lanes from 6:30am to 1:00 PM. They will transition to classroom learning at two tables under the pavilion. Atlantic Edge is an important financial partner of Mill Creek Towne Pool! \nSign up at https://atlanticedge.com/courses/learn-to-scuba-dive
URL:https://mctsa.com/event/atlantic-edge-scuba-training/2025-06-01/
END:VEVENT
BEGIN:VEVENT
DTSTART;TZID=America/New_York:20250525T130000
DTEND;TZID=America/New_York:20250525T150000
DTSTAMP:20260419T214126
CREATED:20240227T231758Z
LAST-MODIFIED:20250419T114403Z
UID:10000017-1748178000-1748185200@mctsa.com
SUMMARY:Opening Weekend BBQ
DESCRIPTION:Burgers\, hot dogs under the pavilion 1:00p – 3:00p (free/donations are welcome and\nappreciated!)
URL:https://mctsa.com/event/opening-weekend-bbq/
ATTACH;FMTTYPE=image/webp:https://mctsa.com/wp-content/uploads/2024/02/hot-dogs-burgers-on-grill-flames.webp
ORGANIZER;CN="Kristin Midas":MAILTO:social@mctsa.com
END:VEVENT
BEGIN:VEVENT
DTSTART;TZID=America/New_York:20250224T070000
DTEND;TZID=America/New_York:20250224T203000
DTSTAMP:20260419T214126
CREATED:20250216T193229Z
LAST-MODIFIED:20250216T193229Z
UID:10000119-1740380400-1740429000@mctsa.com
SUMMARY:Board Meeting/ Budget Vote
DESCRIPTION:Our next board meeting will be Monday\, Feb 24 over Zoom (details provided below) where we will be voting on the budget for the ’25 season. You can view the proposed budget here: https://mctsa.com/proposed-2025-budget/ \nTime: Feb 24\, 2025 07:00 PM Eastern Time (US and Canada)\nJoin Zoom Meeting\nhttps://us06web.zoom.us/j/84743309669 \nMeeting ID: 847 4330 9669
URL:https://mctsa.com/event/board-meeting-budget-vote/
END:VEVENT
BEGIN:VEVENT
DTSTART;TZID=America/New_York:20240901T180000
DTEND;TZID=America/New_York:20240901T200000
DTSTAMP:20260419T214126
CREATED:20240301T004755Z
LAST-MODIFIED:20240301T004755Z
UID:10000028-1725213600-1725220800@mctsa.com
SUMMARY:End of the Season Picnic/Ice Cream Social
DESCRIPTION:Bring your own dinner and drinks!  We’ll bring the ice cream.
URL:https://mctsa.com/event/end-of-the-season-picnic-ice-cream-social/
LOCATION:mct pool
ORGANIZER;CN="Kristin Midas":MAILTO:social@mctsa.com
END:VEVENT
BEGIN:VEVENT
DTSTART;TZID=America/New_York:20240901T063000
DTEND;TZID=America/New_York:20240901T130000
DTSTAMP:20260419T214126
CREATED:20240519T134124Z
LAST-MODIFIED:20240519T134124Z
UID:10000065-1725172200-1725195600@mctsa.com
SUMMARY:Atlantic Edge Dive Class
DESCRIPTION:Atlantic Edge will be utilizing the dive well and the first two swim lanes for SCUBA classes.
URL:https://mctsa.com/event/atlantic-edge-dive-class-4/
ORGANIZER;CN="Mike Mazza":MAILTO:mulligans4me2@hotmail.com
END:VEVENT
BEGIN:VEVENT
DTSTART;TZID=America/New_York:20240831T190000
DTEND;TZID=America/New_York:20240831T220000
DTSTAMP:20260419T214126
CREATED:20240227T233218Z
LAST-MODIFIED:20240831T160106Z
UID:10000027-1725130800-1725141600@mctsa.com
SUMMARY:Red Solo Cup Social
DESCRIPTION:21+ under the pavilion.  We’ll have games and snacks.  It’s the last party of the season.
URL:https://mctsa.com/event/red-solo-cup-social/
LOCATION:mct pool
ORGANIZER;CN="Kristin Midas":MAILTO:social@mctsa.com
END:VEVENT
BEGIN:VEVENT
DTSTART;VALUE=DATE:20240826
DTEND;VALUE=DATE:20240827
DTSTAMP:20260419T214126
CREATED:20240524T004454Z
LAST-MODIFIED:20240524T004454Z
UID:10000113-1724630400-1724716799@mctsa.com
SUMMARY:Sign Up for the Snack Bar!
DESCRIPTION:The 2024 pool season is upon us\, and we are excited to open the snack bar with the help of our volunteers. This is an ALL-VOLUNTEER endeavor\, adults and kids are welcome to sign up. \nDetails: \n2-hour time slots\nSSL hours available to rising 6th grade – 12 grade students\n6th grade students must pair with an adult or older student\nIf slots are not filled\, Snack bar will be CLOSED\nCome out and support the pool by volunteering! \nIf you have any questions\, please text or call Doris Ryba (301) 467-4241\, Tina Webb (301) 252-1044\, or Shani Boone (202) 247-5834\nClick Here to Sign Up!
URL:https://mctsa.com/event/sign-up-for-the-snack-bar/2024-08-26/
END:VEVENT
BEGIN:VEVENT
DTSTART;TZID=America/New_York:20240821T200000
DTEND;TZID=America/New_York:20240821T220000
DTSTAMP:20260419T214126
CREATED:20240815T000910Z
LAST-MODIFIED:20240815T000910Z
UID:10000118-1724270400-1724277600@mctsa.com
SUMMARY:Movie Night at the Creek
DESCRIPTION:Despicable Me 4!   Bring a raft and join us at this poolside event.  The snack bar will be open and popcorn purchases support the MCT Dive Team.
URL:https://mctsa.com/event/movie-night-at-the-creek/
LOCATION:mct pool
ATTACH;FMTTYPE=image/png:https://mctsa.com/wp-content/uploads/2024/08/Screenshot-2024-08-14-200755.png
ORGANIZER;CN="Kristin Midas":MAILTO:social@mctsa.com
END:VEVENT
BEGIN:VEVENT
DTSTART;TZID=America/New_York:20240819T120000
DTEND;TZID=America/New_York:20240819T150000
DTSTAMP:20260419T214126
CREATED:20240227T004306Z
LAST-MODIFIED:20240227T004306Z
UID:10000010-1724068800-1724079600@mctsa.com
SUMMARY:KinderCare Monday.  Pool Opens to Members at 3 PM.
DESCRIPTION:
URL:https://mctsa.com/event/kindercare-monday-pool-opens-to-members-at-3-pm-6/
END:VEVENT
BEGIN:VEVENT
DTSTART;VALUE=DATE:20240819
DTEND;VALUE=DATE:20240820
DTSTAMP:20260419T214126
CREATED:20240524T004454Z
LAST-MODIFIED:20240524T004454Z
UID:10000112-1724025600-1724111999@mctsa.com
SUMMARY:Sign Up for the Snack Bar!
DESCRIPTION:The 2024 pool season is upon us\, and we are excited to open the snack bar with the help of our volunteers. This is an ALL-VOLUNTEER endeavor\, adults and kids are welcome to sign up. \nDetails: \n2-hour time slots\nSSL hours available to rising 6th grade – 12 grade students\n6th grade students must pair with an adult or older student\nIf slots are not filled\, Snack bar will be CLOSED\nCome out and support the pool by volunteering! \nIf you have any questions\, please text or call Doris Ryba (301) 467-4241\, Tina Webb (301) 252-1044\, or Shani Boone (202) 247-5834\nClick Here to Sign Up!
URL:https://mctsa.com/event/sign-up-for-the-snack-bar/2024-08-19/
END:VEVENT
BEGIN:VEVENT
DTSTART;TZID=America/New_York:20240812T123000
DTEND;TZID=America/New_York:20240812T150000
DTSTAMP:20260419T214126
CREATED:20240227T004231Z
LAST-MODIFIED:20240227T004231Z
UID:10000009-1723465800-1723474800@mctsa.com
SUMMARY:KinderCare Monday.  Pool Opens to Members at 3 PM.
DESCRIPTION:
URL:https://mctsa.com/event/kindercare-monday-pool-opens-to-members-at-3-pm-5/
END:VEVENT
BEGIN:VEVENT
DTSTART;VALUE=DATE:20240812
DTEND;VALUE=DATE:20240813
DTSTAMP:20260419T214126
CREATED:20240524T004454Z
LAST-MODIFIED:20240524T004454Z
UID:10000111-1723420800-1723507199@mctsa.com
SUMMARY:Sign Up for the Snack Bar!
DESCRIPTION:The 2024 pool season is upon us\, and we are excited to open the snack bar with the help of our volunteers. This is an ALL-VOLUNTEER endeavor\, adults and kids are welcome to sign up. \nDetails: \n2-hour time slots\nSSL hours available to rising 6th grade – 12 grade students\n6th grade students must pair with an adult or older student\nIf slots are not filled\, Snack bar will be CLOSED\nCome out and support the pool by volunteering! \nIf you have any questions\, please text or call Doris Ryba (301) 467-4241\, Tina Webb (301) 252-1044\, or Shani Boone (202) 247-5834\nClick Here to Sign Up!
URL:https://mctsa.com/event/sign-up-for-the-snack-bar/2024-08-12/
END:VEVENT
BEGIN:VEVENT
DTSTART;TZID=America/New_York:20240808T190000
DTEND;TZID=America/New_York:20240808T194500
DTSTAMP:20260419T214126
CREATED:20240524T004047Z
LAST-MODIFIED:20240524T004054Z
UID:10000039-1723143600-1723146300@mctsa.com
SUMMARY:Water Aerobics
DESCRIPTION:Splash into shape with a high-energy water aerobics class! The water keeps your joints happy while you move to the beat\, toning your whole body. Get ready for laughs\, cool water\, and a workout that feels more like a pool party than exercise.
URL:https://mctsa.com/event/water-aerobics-5/
ORGANIZER;CN="Kristin Midas":MAILTO:social@mctsa.com
END:VEVENT
BEGIN:VEVENT
DTSTART;TZID=America/New_York:20240805T120000
DTEND;TZID=America/New_York:20240805T150000
DTSTAMP:20260419T214126
CREATED:20240227T004129Z
LAST-MODIFIED:20240227T004129Z
UID:10000008-1722859200-1722870000@mctsa.com
SUMMARY:KinderCare Monday.  Pool Opens to Members at 3 PM.
DESCRIPTION:
URL:https://mctsa.com/event/kindercare-monday-pool-opens-to-members-at-3-pm-4/
END:VEVENT
BEGIN:VEVENT
DTSTART;VALUE=DATE:20240805
DTEND;VALUE=DATE:20240806
DTSTAMP:20260419T214126
CREATED:20240524T004454Z
LAST-MODIFIED:20240524T004454Z
UID:10000110-1722816000-1722902399@mctsa.com
SUMMARY:Sign Up for the Snack Bar!
DESCRIPTION:The 2024 pool season is upon us\, and we are excited to open the snack bar with the help of our volunteers. This is an ALL-VOLUNTEER endeavor\, adults and kids are welcome to sign up. \nDetails: \n2-hour time slots\nSSL hours available to rising 6th grade – 12 grade students\n6th grade students must pair with an adult or older student\nIf slots are not filled\, Snack bar will be CLOSED\nCome out and support the pool by volunteering! \nIf you have any questions\, please text or call Doris Ryba (301) 467-4241\, Tina Webb (301) 252-1044\, or Shani Boone (202) 247-5834\nClick Here to Sign Up!
URL:https://mctsa.com/event/sign-up-for-the-snack-bar/2024-08-05/
END:VEVENT
BEGIN:VEVENT
DTSTART;TZID=America/New_York:20240804T063000
DTEND;TZID=America/New_York:20240804T130000
DTSTAMP:20260419T214126
CREATED:20240519T134038Z
LAST-MODIFIED:20240519T134038Z
UID:10000064-1722753000-1722776400@mctsa.com
SUMMARY:Atlantic Edge Dive Class
DESCRIPTION:Atlantic Edge will be utilizing the dive well and the first two swim lanes for SCUBA classes.
URL:https://mctsa.com/event/atlantic-edge-dive-class-3/
ORGANIZER;CN="Mike Mazza":MAILTO:mulligans4me2@hotmail.com
END:VEVENT
BEGIN:VEVENT
DTSTART;TZID=America/New_York:20240801T190000
DTEND;TZID=America/New_York:20240801T194500
DTSTAMP:20260419T214126
CREATED:20240524T003931Z
LAST-MODIFIED:20240524T003932Z
UID:10000038-1722538800-1722541500@mctsa.com
SUMMARY:Water Aerobics
DESCRIPTION:Splash into shape with a high-energy water aerobics class! The water keeps your joints happy while you move to the beat\, toning your whole body. Get ready for laughs\, cool water\, and a workout that feels more like a pool party than exercise.
URL:https://mctsa.com/event/water-aerobics-4/
ORGANIZER;CN="Kristin Midas":MAILTO:social@mctsa.com
END:VEVENT
BEGIN:VEVENT
DTSTART;TZID=America/New_York:20240729T120000
DTEND;TZID=America/New_York:20240729T150000
DTSTAMP:20260419T214126
CREATED:20240227T004101Z
LAST-MODIFIED:20240227T004101Z
UID:10000007-1722254400-1722265200@mctsa.com
SUMMARY:KinderCare Monday.  Pool Opens to Members at 3 PM.
DESCRIPTION:
URL:https://mctsa.com/event/kindercare-monday-pool-opens-to-members-at-3-pm-3/
END:VEVENT
BEGIN:VEVENT
DTSTART;TZID=America/New_York:20240729T080000
DTEND;TZID=America/New_York:20240801T150000
DTSTAMP:20260419T214126
CREATED:20240519T134350Z
LAST-MODIFIED:20240519T134350Z
UID:10000067-1722240000-1722524400@mctsa.com
SUMMARY:July SCUBA Camp
DESCRIPTION:Atlantic Edge will be utilizing the dive well and the first swim lane for their July SCUBA training.
URL:https://mctsa.com/event/july-scuba-camp/
ORGANIZER;CN="Mike Mazza":MAILTO:mulligans4me2@hotmail.com
END:VEVENT
BEGIN:VEVENT
DTSTART;VALUE=DATE:20240729
DTEND;VALUE=DATE:20240730
DTSTAMP:20260419T214126
CREATED:20240524T004454Z
LAST-MODIFIED:20240524T004454Z
UID:10000109-1722211200-1722297599@mctsa.com
SUMMARY:Sign Up for the Snack Bar!
DESCRIPTION:The 2024 pool season is upon us\, and we are excited to open the snack bar with the help of our volunteers. This is an ALL-VOLUNTEER endeavor\, adults and kids are welcome to sign up. \nDetails: \n2-hour time slots\nSSL hours available to rising 6th grade – 12 grade students\n6th grade students must pair with an adult or older student\nIf slots are not filled\, Snack bar will be CLOSED\nCome out and support the pool by volunteering! \nIf you have any questions\, please text or call Doris Ryba (301) 467-4241\, Tina Webb (301) 252-1044\, or Shani Boone (202) 247-5834\nClick Here to Sign Up!
URL:https://mctsa.com/event/sign-up-for-the-snack-bar/2024-07-29/
END:VEVENT
END:VCALENDAR