BEGIN:VCALENDAR
VERSION:2.0
PRODID:-//Mill Creek Towne Swim Association - Home of the Marlins - ECPv6.15.20//NONSGML v1.0//EN
CALSCALE:GREGORIAN
METHOD:PUBLISH
X-WR-CALNAME:Mill Creek Towne Swim Association - Home of the Marlins
X-ORIGINAL-URL:https://mctsa.com
X-WR-CALDESC:Events for Mill Creek Towne Swim Association - Home of the Marlins
REFRESH-INTERVAL;VALUE=DURATION:PT1H
X-Robots-Tag:noindex
X-PUBLISHED-TTL:PT1H
BEGIN:VTIMEZONE
TZID:America/New_York
BEGIN:DAYLIGHT
TZOFFSETFROM:-0500
TZOFFSETTO:-0400
TZNAME:EDT
DTSTART:20230312T070000
END:DAYLIGHT
BEGIN:STANDARD
TZOFFSETFROM:-0400
TZOFFSETTO:-0500
TZNAME:EST
DTSTART:20231105T060000
END:STANDARD
BEGIN:DAYLIGHT
TZOFFSETFROM:-0500
TZOFFSETTO:-0400
TZNAME:EDT
DTSTART:20240310T070000
END:DAYLIGHT
BEGIN:STANDARD
TZOFFSETFROM:-0400
TZOFFSETTO:-0500
TZNAME:EST
DTSTART:20241103T060000
END:STANDARD
BEGIN:DAYLIGHT
TZOFFSETFROM:-0500
TZOFFSETTO:-0400
TZNAME:EDT
DTSTART:20250309T070000
END:DAYLIGHT
BEGIN:STANDARD
TZOFFSETFROM:-0400
TZOFFSETTO:-0500
TZNAME:EST
DTSTART:20251102T060000
END:STANDARD
END:VTIMEZONE
BEGIN:VEVENT
DTSTART;TZID=America/New_York:20240628T070000
DTEND;TZID=America/New_York:20240628T080000
DTSTAMP:20260419T194443
CREATED:20240618T013449Z
LAST-MODIFIED:20240618T013449Z
UID:10000083-1719558000-1719561600@mctsa.com
SUMMARY:Early Bird Swim
DESCRIPTION:Slice through the quiet water as the sun paints the sky. An early morning swim is a refreshing way to jumpstart your day. Enjoy the peacefulness and solitude before the world wakes up\, all while getting a fantastic low-impact workout. \nMust be a member of MCTSA and 16 or over please. For information about becoming a member click on the link below. \nhttps://mctsa.com/membership/\n  \nAll abilities are welcome and free swim or set workouts available.  \nThe cost will be $40.00 payable in-person  \nor by PayPal @ paypal.me/gwfederico \n  \nFor more information contact gwfederico@gmail.com     \nPlease spread the word\, the more the…fun! 
URL:https://mctsa.com/event/early-bird-swim-2/2024-06-28/
ATTACH;FMTTYPE=image/jpeg:https://mctsa.com/wp-content/uploads/2024/05/d2xv332okde21.jpg
ORGANIZER;CN="Guy Federico":MAILTO:gwfederico@gmail.com
END:VEVENT
BEGIN:VEVENT
DTSTART;TZID=America/New_York:20240626T070000
DTEND;TZID=America/New_York:20240626T080000
DTSTAMP:20260419T194443
CREATED:20240618T013449Z
LAST-MODIFIED:20240618T013449Z
UID:10000082-1719385200-1719388800@mctsa.com
SUMMARY:Early Bird Swim
DESCRIPTION:Slice through the quiet water as the sun paints the sky. An early morning swim is a refreshing way to jumpstart your day. Enjoy the peacefulness and solitude before the world wakes up\, all while getting a fantastic low-impact workout. \nMust be a member of MCTSA and 16 or over please. For information about becoming a member click on the link below. \nhttps://mctsa.com/membership/\n  \nAll abilities are welcome and free swim or set workouts available.  \nThe cost will be $40.00 payable in-person  \nor by PayPal @ paypal.me/gwfederico \n  \nFor more information contact gwfederico@gmail.com     \nPlease spread the word\, the more the…fun! 
URL:https://mctsa.com/event/early-bird-swim-2/2024-06-26/
ATTACH;FMTTYPE=image/jpeg:https://mctsa.com/wp-content/uploads/2024/05/d2xv332okde21.jpg
ORGANIZER;CN="Guy Federico":MAILTO:gwfederico@gmail.com
END:VEVENT
BEGIN:VEVENT
DTSTART;TZID=America/New_York:20240625T190000
DTEND;TZID=America/New_York:20240625T194500
DTSTAMP:20260419T194443
CREATED:20240524T004106Z
LAST-MODIFIED:20240524T004108Z
UID:10000033-1719342000-1719344700@mctsa.com
SUMMARY:Water Aerobics
DESCRIPTION:Splash into shape with a high-energy water aerobics class! The water keeps your joints happy while you move to the beat\, toning your whole body. Get ready for laughs\, cool water\, and a workout that feels more like a pool party than exercise.
URL:https://mctsa.com/event/water-aerobics-6/
ORGANIZER;CN="Kristin Midas":MAILTO:social@mctsa.com
END:VEVENT
BEGIN:VEVENT
DTSTART;TZID=America/New_York:20240624T120000
DTEND;TZID=America/New_York:20240624T150000
DTSTAMP:20260419T194443
CREATED:20240227T003816Z
LAST-MODIFIED:20240227T003816Z
UID:10000002-1719230400-1719241200@mctsa.com
SUMMARY:Kinder Care Monday.  Pool Opens to Members at 3 PM.
DESCRIPTION:
URL:https://mctsa.com/event/kinder-care-monday-pool-opens-to-members-at-3-pm/
LOCATION:mct pool
END:VEVENT
BEGIN:VEVENT
DTSTART;TZID=America/New_York:20240624T080000
DTEND;TZID=America/New_York:20240627T150000
DTSTAMP:20260419T194443
CREATED:20240519T134306Z
LAST-MODIFIED:20240519T134306Z
UID:10000066-1719216000-1719500400@mctsa.com
SUMMARY:June SCUBA Camp
DESCRIPTION:Atlantic Edge will be utilizing the dive well and the first swim lane for their June SCUBA training.
URL:https://mctsa.com/event/june-scuba-camp/
ORGANIZER;CN="Mike Mazza":MAILTO:mulligans4me2@hotmail.com
END:VEVENT
BEGIN:VEVENT
DTSTART;TZID=America/New_York:20240624T070000
DTEND;TZID=America/New_York:20240624T080000
DTSTAMP:20260419T194443
CREATED:20240618T013449Z
LAST-MODIFIED:20240618T013449Z
UID:10000079-1719212400-1719216000@mctsa.com
SUMMARY:Early Bird Swim
DESCRIPTION:Slice through the quiet water as the sun paints the sky. An early morning swim is a refreshing way to jumpstart your day. Enjoy the peacefulness and solitude before the world wakes up\, all while getting a fantastic low-impact workout. \nMust be a member of MCTSA and 16 or over please. For information about becoming a member click on the link below. \nhttps://mctsa.com/membership/\n  \nAll abilities are welcome and free swim or set workouts available.  \nThe cost will be $40.00 payable in-person  \nor by PayPal @ paypal.me/gwfederico \n  \nFor more information contact gwfederico@gmail.com     \nPlease spread the word\, the more the…fun! 
URL:https://mctsa.com/event/early-bird-swim-2/2024-06-24/
ATTACH;FMTTYPE=image/jpeg:https://mctsa.com/wp-content/uploads/2024/05/d2xv332okde21.jpg
ORGANIZER;CN="Guy Federico":MAILTO:gwfederico@gmail.com
END:VEVENT
BEGIN:VEVENT
DTSTART;VALUE=DATE:20240624
DTEND;VALUE=DATE:20240625
DTSTAMP:20260419T194443
CREATED:20240524T004454Z
LAST-MODIFIED:20240524T004454Z
UID:10000104-1719187200-1719273599@mctsa.com
SUMMARY:Sign Up for the Snack Bar!
DESCRIPTION:The 2024 pool season is upon us\, and we are excited to open the snack bar with the help of our volunteers. This is an ALL-VOLUNTEER endeavor\, adults and kids are welcome to sign up. \nDetails: \n2-hour time slots\nSSL hours available to rising 6th grade – 12 grade students\n6th grade students must pair with an adult or older student\nIf slots are not filled\, Snack bar will be CLOSED\nCome out and support the pool by volunteering! \nIf you have any questions\, please text or call Doris Ryba (301) 467-4241\, Tina Webb (301) 252-1044\, or Shani Boone (202) 247-5834\nClick Here to Sign Up!
URL:https://mctsa.com/event/sign-up-for-the-snack-bar/2024-06-24/
END:VEVENT
BEGIN:VEVENT
DTSTART;TZID=America/New_York:20240621T173000
DTEND;TZID=America/New_York:20240621T193000
DTSTAMP:20260419T194443
CREATED:20240227T231220Z
LAST-MODIFIED:20240301T230525Z
UID:10000013-1718991000-1718998200@mctsa.com
SUMMARY:Friday Night Food Truck - Q'Sabroso
DESCRIPTION:
URL:https://mctsa.com/event/friday-night-food-truck-2/
CATEGORIES:Food Truck
ATTACH;FMTTYPE=image/png:https://mctsa.com/wp-content/uploads/2024/02/qsabroso.png
END:VEVENT
BEGIN:VEVENT
DTSTART;TZID=America/New_York:20240620T130000
DTEND;TZID=America/New_York:20240620T150000
DTSTAMP:20260419T194443
CREATED:20240227T232023Z
LAST-MODIFIED:20240227T232023Z
UID:10000019-1718888400-1718895600@mctsa.com
SUMMARY:Kids Canvas Painting and Fingernail art
DESCRIPTION:
URL:https://mctsa.com/event/kids-canvas-painting-and-fingernail-art/
LOCATION:mct pool
ORGANIZER;CN="Kristin Midas":MAILTO:social@mctsa.com
END:VEVENT
BEGIN:VEVENT
DTSTART;TZID=America/New_York:20240618T080000
DTEND;TZID=America/New_York:20240618T220000
DTSTAMP:20260419T194443
CREATED:20240612T023941Z
LAST-MODIFIED:20240618T013209Z
UID:10000116-1718697600-1718748000@mctsa.com
SUMMARY:Pop-Up Movie Night @ The Creek
DESCRIPTION:
URL:https://mctsa.com/event/pop-up-movie-night-the-creek/
ORGANIZER;CN="Kristin Midas":MAILTO:social@mctsa.com
END:VEVENT
BEGIN:VEVENT
DTSTART;TZID=America/New_York:20240617T070000
DTEND;TZID=America/New_York:20240617T080000
DTSTAMP:20260419T194443
CREATED:20240519T133033Z
LAST-MODIFIED:20240524T002727Z
UID:10000078-1718607600-1718611200@mctsa.com
SUMMARY:Early Bird Swim
DESCRIPTION:Slice through the quiet water as the sun paints the sky. An early morning swim is a refreshing way to jumpstart your day. Enjoy the peacefulness and solitude before the world wakes up\, all while getting a fantastic low-impact workout. \n$35 For The Season contact Guy at gwfederico@gmail.com for details.
URL:https://mctsa.com/event/early-bird-swim/
ATTACH;FMTTYPE=image/jpeg:https://mctsa.com/wp-content/uploads/2024/05/d2xv332okde21.jpg
ORGANIZER;CN="Guy Federico":MAILTO:gwfederico@gmail.com
END:VEVENT
BEGIN:VEVENT
DTSTART;VALUE=DATE:20240617
DTEND;VALUE=DATE:20240618
DTSTAMP:20260419T194443
CREATED:20240524T004454Z
LAST-MODIFIED:20240524T004454Z
UID:10000103-1718582400-1718668799@mctsa.com
SUMMARY:Sign Up for the Snack Bar!
DESCRIPTION:The 2024 pool season is upon us\, and we are excited to open the snack bar with the help of our volunteers. This is an ALL-VOLUNTEER endeavor\, adults and kids are welcome to sign up. \nDetails: \n2-hour time slots\nSSL hours available to rising 6th grade – 12 grade students\n6th grade students must pair with an adult or older student\nIf slots are not filled\, Snack bar will be CLOSED\nCome out and support the pool by volunteering! \nIf you have any questions\, please text or call Doris Ryba (301) 467-4241\, Tina Webb (301) 252-1044\, or Shani Boone (202) 247-5834\nClick Here to Sign Up!
URL:https://mctsa.com/event/sign-up-for-the-snack-bar/2024-06-17/
END:VEVENT
BEGIN:VEVENT
DTSTART;TZID=America/New_York:20240616T160000
DTEND;TZID=America/New_York:20240616T200000
DTSTAMP:20260419T194443
CREATED:20240519T134813Z
LAST-MODIFIED:20240520T220744Z
UID:10000068-1718553600-1718568000@mctsa.com
SUMMARY:Dive Meet vs Twin Farms
DESCRIPTION:Come support our Marlin divers at the first home meet of the season!
URL:https://mctsa.com/event/dive-meet-vs-twin-farms/
ORGANIZER;CN="Rachel Brightbill":MAILTO:rbrightbill@gmail.com
END:VEVENT
BEGIN:VEVENT
DTSTART;TZID=America/New_York:20240615T090000
DTEND;TZID=America/New_York:20240615T120000
DTSTAMP:20260419T194443
CREATED:20240520T214807Z
LAST-MODIFIED:20240520T220425Z
UID:10000072-1718442000-1718452800@mctsa.com
SUMMARY:A Swim Meet vs Glenwood
DESCRIPTION:Get ready to cheer! The Marlins are gearing up to start the swim season. The pool will be abuzz with energy as the team dives in\, ready to give their all.  It’s going to be a fin-tastic competition!
URL:https://mctsa.com/event/a-swim-meet-vs-glenwood/
END:VEVENT
BEGIN:VEVENT
DTSTART;TZID=America/New_York:20240614T173000
DTEND;TZID=America/New_York:20240614T193000
DTSTAMP:20260419T194443
CREATED:20240227T231135Z
LAST-MODIFIED:20240301T230714Z
UID:10000012-1718386200-1718393400@mctsa.com
SUMMARY:Friday Night Food Truck - Pop Up Poutine
DESCRIPTION:
URL:https://mctsa.com/event/friday-night-food-truck/
LOCATION:mct pool
CATEGORIES:Food Truck
ATTACH;FMTTYPE=image/jpeg:https://mctsa.com/wp-content/uploads/2024/02/301576047_494861349312174_5267445189862275505_n.jpg
ORGANIZER;CN="Kristin Midas":MAILTO:social@mctsa.com
END:VEVENT
BEGIN:VEVENT
DTSTART;TZID=America/New_York:20240612T190000
DTEND;TZID=America/New_York:20240612T194500
DTSTAMP:20260419T194443
CREATED:20240603T213657Z
LAST-MODIFIED:20240603T213657Z
UID:10000115-1718218800-1718221500@mctsa.com
SUMMARY:Evan Mackesy US Olympic Trials Send-Off!
DESCRIPTION:Evan is a lifelong Marlin\, who started here as an 8&Under and has worked his way up through the years to\nbecome a MCT\, Magruder High School\, and RMSC team record holder\, as well as a State Champion and\nNational qualifier. He will compete at LucasOil Stadium in the 400 meter IM on Sunday\, June 16. \n7:00 – Welcome\, meet and greet.\n7:15 – Coach Dave will moderate a Q&A session with Evan for all swimmers and parents. Learn about\nEvan’s swim journey\, and how he went from mini-Marlin to where he is today.\n7:45 – Celebrate!
URL:https://mctsa.com/event/evan-mackesy-us-olympic-trials-send-off/
ATTACH;FMTTYPE=image/png:https://mctsa.com/wp-content/uploads/2024/06/EMsendoff.png
ORGANIZER;CN="Cynthia Glenn":MAILTO:swimrepmct@gmail.com
END:VEVENT
BEGIN:VEVENT
DTSTART;VALUE=DATE:20240610
DTEND;VALUE=DATE:20240611
DTSTAMP:20260419T194443
CREATED:20240524T004454Z
LAST-MODIFIED:20240524T004454Z
UID:10000102-1717977600-1718063999@mctsa.com
SUMMARY:Sign Up for the Snack Bar!
DESCRIPTION:The 2024 pool season is upon us\, and we are excited to open the snack bar with the help of our volunteers. This is an ALL-VOLUNTEER endeavor\, adults and kids are welcome to sign up. \nDetails: \n2-hour time slots\nSSL hours available to rising 6th grade – 12 grade students\n6th grade students must pair with an adult or older student\nIf slots are not filled\, Snack bar will be CLOSED\nCome out and support the pool by volunteering! \nIf you have any questions\, please text or call Doris Ryba (301) 467-4241\, Tina Webb (301) 252-1044\, or Shani Boone (202) 247-5834\nClick Here to Sign Up!
URL:https://mctsa.com/event/sign-up-for-the-snack-bar/2024-06-10/
END:VEVENT
BEGIN:VEVENT
DTSTART;TZID=America/New_York:20240609T130000
DTEND;TZID=America/New_York:20240609T150000
DTSTAMP:20260419T194443
CREATED:20240519T130019Z
LAST-MODIFIED:20240519T130019Z
UID:10000032-1717938000-1717945200@mctsa.com
SUMMARY:Candlewood Elementary 5th Grade Pool Party
DESCRIPTION:Congratulations on completing elementary school!  To celebrate the accomplishment\, 5th graders are invited to a pool party!  Students must be accompanied by an adult for the duration. \nSign Up Here! \n 
URL:https://mctsa.com/event/candlewood-elementary-5th-grade-pool-party/
ORGANIZER;CN="Sam Erdheim":MAILTO:serdheim@hotmail.com
END:VEVENT
BEGIN:VEVENT
DTSTART;TZID=America/New_York:20240608T130000
DTEND;TZID=America/New_York:20240608T150000
DTSTAMP:20260419T194443
CREATED:20240519T125803Z
LAST-MODIFIED:20240519T125803Z
UID:10000031-1717851600-1717858800@mctsa.com
SUMMARY:Mill Creek Towne Elementary Fifth Grade Pool Party
DESCRIPTION:Congratulations on completing Elementary School. To celebrate the accomplishment we are inviting 5th Graders to a Pool party! Students must be accompanied by an adult. \nSign Up here!
URL:https://mctsa.com/event/mill-creek-towne-elementary-fifth-grade-pool-party/
LOCATION:mct pool
ORGANIZER;CN="Sam Erdheim":MAILTO:serdheim@hotmail.com
END:VEVENT
BEGIN:VEVENT
DTSTART;TZID=America/New_York:20240607T173000
DTEND;TZID=America/New_York:20240607T193000
DTSTAMP:20260419T194443
CREATED:20240301T231312Z
LAST-MODIFIED:20240301T231312Z
UID:10000030-1717781400-1717788600@mctsa.com
SUMMARY:Food Truck Friday-  Steeze Burger and Two Story Chimney Ciderworks!
DESCRIPTION:
URL:https://mctsa.com/event/food-truck-friday-steeze-burger-and-two-story-chimney-ciderworks/
ATTACH;FMTTYPE=image/png:https://mctsa.com/wp-content/uploads/2024/03/steeze-and-2-story-cider.png
END:VEVENT
BEGIN:VEVENT
DTSTART;VALUE=DATE:20240603
DTEND;VALUE=DATE:20240604
DTSTAMP:20260419T194443
CREATED:20240524T004454Z
LAST-MODIFIED:20240524T004454Z
UID:10000101-1717372800-1717459199@mctsa.com
SUMMARY:Sign Up for the Snack Bar!
DESCRIPTION:The 2024 pool season is upon us\, and we are excited to open the snack bar with the help of our volunteers. This is an ALL-VOLUNTEER endeavor\, adults and kids are welcome to sign up. \nDetails: \n2-hour time slots\nSSL hours available to rising 6th grade – 12 grade students\n6th grade students must pair with an adult or older student\nIf slots are not filled\, Snack bar will be CLOSED\nCome out and support the pool by volunteering! \nIf you have any questions\, please text or call Doris Ryba (301) 467-4241\, Tina Webb (301) 252-1044\, or Shani Boone (202) 247-5834\nClick Here to Sign Up!
URL:https://mctsa.com/event/sign-up-for-the-snack-bar/2024-06-03/
END:VEVENT
BEGIN:VEVENT
DTSTART;TZID=America/New_York:20240602T063000
DTEND;TZID=America/New_York:20240602T130000
DTSTAMP:20260419T194443
CREATED:20240519T133700Z
LAST-MODIFIED:20240519T133700Z
UID:10000061-1717309800-1717333200@mctsa.com
SUMMARY:Atlantic Edge Scuba
DESCRIPTION:Atlantic Edge Scuba will be utilizing the pool for training classes.  Dive well and first two swim lanes.
URL:https://mctsa.com/event/atlantic-edge-scuba/
ORGANIZER;CN="Mike Mazza":MAILTO:mulligans4me2@hotmail.com
END:VEVENT
BEGIN:VEVENT
DTSTART;TZID=America/New_York:20240601T120000
DTEND;TZID=America/New_York:20240601T180000
DTSTAMP:20260419T194443
CREATED:20240528T221345Z
LAST-MODIFIED:20240528T221345Z
UID:10000114-1717243200-1717264800@mctsa.com
SUMMARY:Fun at Mill Creek Towne Swim! Free Preview Event
DESCRIPTION:We are welcoming our neighbors to the Creek for a free preview event.  If you have friends who are curious about the pool let them know they can check us out for FREE.   \nSend them this link to sign up:  \nhttps://www.signupgenius.com/go/10C0545AAA923A3FA7-49893717-funatmill
URL:https://mctsa.com/event/fun-at-mill-creek-towne-swim-free-preview-event/
ORGANIZER;CN="Sam Erdheim":MAILTO:serdheim@hotmail.com
END:VEVENT
BEGIN:VEVENT
DTSTART;VALUE=DATE:20240527
DTEND;VALUE=DATE:20240528
DTSTAMP:20260419T194443
CREATED:20240524T004454Z
LAST-MODIFIED:20240524T004454Z
UID:10000100-1716768000-1716854399@mctsa.com
SUMMARY:Sign Up for the Snack Bar!
DESCRIPTION:The 2024 pool season is upon us\, and we are excited to open the snack bar with the help of our volunteers. This is an ALL-VOLUNTEER endeavor\, adults and kids are welcome to sign up. \nDetails: \n2-hour time slots\nSSL hours available to rising 6th grade – 12 grade students\n6th grade students must pair with an adult or older student\nIf slots are not filled\, Snack bar will be CLOSED\nCome out and support the pool by volunteering! \nIf you have any questions\, please text or call Doris Ryba (301) 467-4241\, Tina Webb (301) 252-1044\, or Shani Boone (202) 247-5834\nClick Here to Sign Up!
URL:https://mctsa.com/event/sign-up-for-the-snack-bar/2024-05-27/
END:VEVENT
BEGIN:VEVENT
DTSTART;VALUE=DATE:20240520
DTEND;VALUE=DATE:20240521
DTSTAMP:20260419T194443
CREATED:20240524T004454Z
LAST-MODIFIED:20240524T004454Z
UID:10000099-1716163200-1716249599@mctsa.com
SUMMARY:Sign Up for the Snack Bar!
DESCRIPTION:The 2024 pool season is upon us\, and we are excited to open the snack bar with the help of our volunteers. This is an ALL-VOLUNTEER endeavor\, adults and kids are welcome to sign up. \nDetails: \n2-hour time slots\nSSL hours available to rising 6th grade – 12 grade students\n6th grade students must pair with an adult or older student\nIf slots are not filled\, Snack bar will be CLOSED\nCome out and support the pool by volunteering! \nIf you have any questions\, please text or call Doris Ryba (301) 467-4241\, Tina Webb (301) 252-1044\, or Shani Boone (202) 247-5834\nClick Here to Sign Up!
URL:https://mctsa.com/event/sign-up-for-the-snack-bar/2024-05-20/
END:VEVENT
BEGIN:VEVENT
DTSTART;TZID=America/New_York:20240229T193000
DTEND;TZID=America/New_York:20240229T203000
DTSTAMP:20260419T194443
CREATED:20240227T005047Z
LAST-MODIFIED:20240227T005335Z
UID:10000011-1709235000-1709238600@mctsa.com
SUMMARY:Swim Volunteer Meeting
DESCRIPTION:Join Zoom Meeting https://us04web.zoom.us/j/76941685073?pwd=lx6GafB… \nMeeting ID: 769 4168 5073 \nPasscode: 4WALxQ
URL:https://mctsa.com/event/swim-volunteer-meeting/
ORGANIZER;CN="Cynthia Glenn":MAILTO:swimrepmct@gmail.com
END:VEVENT
END:VCALENDAR