BEGIN:VCALENDAR
VERSION:2.0
PRODID:-//Mill Creek Towne Swim Association - Home of the Marlins - ECPv6.15.20//NONSGML v1.0//EN
CALSCALE:GREGORIAN
METHOD:PUBLISH
X-ORIGINAL-URL:https://mctsa.com
X-WR-CALDESC:Events for Mill Creek Towne Swim Association - Home of the Marlins
REFRESH-INTERVAL;VALUE=DURATION:PT1H
X-Robots-Tag:noindex
X-PUBLISHED-TTL:PT1H
BEGIN:VTIMEZONE
TZID:America/New_York
BEGIN:DAYLIGHT
TZOFFSETFROM:-0500
TZOFFSETTO:-0400
TZNAME:EDT
DTSTART:20230312T070000
END:DAYLIGHT
BEGIN:STANDARD
TZOFFSETFROM:-0400
TZOFFSETTO:-0500
TZNAME:EST
DTSTART:20231105T060000
END:STANDARD
BEGIN:DAYLIGHT
TZOFFSETFROM:-0500
TZOFFSETTO:-0400
TZNAME:EDT
DTSTART:20240310T070000
END:DAYLIGHT
BEGIN:STANDARD
TZOFFSETFROM:-0400
TZOFFSETTO:-0500
TZNAME:EST
DTSTART:20241103T060000
END:STANDARD
BEGIN:DAYLIGHT
TZOFFSETFROM:-0500
TZOFFSETTO:-0400
TZNAME:EDT
DTSTART:20250309T070000
END:DAYLIGHT
BEGIN:STANDARD
TZOFFSETFROM:-0400
TZOFFSETTO:-0500
TZNAME:EST
DTSTART:20251102T060000
END:STANDARD
END:VTIMEZONE
BEGIN:VEVENT
DTSTART;TZID=America/New_York:20240707T160000
DTEND;TZID=America/New_York:20240707T200000
DTSTAMP:20260419T181130
CREATED:20240519T135017Z
LAST-MODIFIED:20240520T220808Z
UID:10000070-1720368000-1720382400@mctsa.com
SUMMARY:Dive Meet vs Westleigh
DESCRIPTION:Come support our Marlin dive team at the final home meet of the season!
URL:https://mctsa.com/event/dive-meet-vs-westleigh/
ORGANIZER;CN="Rachel Brightbill":MAILTO:rbrightbill@gmail.com
END:VEVENT
BEGIN:VEVENT
DTSTART;TZID=America/New_York:20240630T160000
DTEND;TZID=America/New_York:20240630T200000
DTSTAMP:20260419T181130
CREATED:20240519T134911Z
LAST-MODIFIED:20240520T220723Z
UID:10000069-1719763200-1719777600@mctsa.com
SUMMARY:Dive Meet vs Potomac
DESCRIPTION:Come support our Marlin divers at the second home meet of the season!
URL:https://mctsa.com/event/dive-meet-vs-potomac/
ORGANIZER;CN="Rachel Brightbill":MAILTO:rbrightbill@gmail.com
END:VEVENT
BEGIN:VEVENT
DTSTART;TZID=America/New_York:20240616T160000
DTEND;TZID=America/New_York:20240616T200000
DTSTAMP:20260419T181130
CREATED:20240519T134813Z
LAST-MODIFIED:20240520T220744Z
UID:10000068-1718553600-1718568000@mctsa.com
SUMMARY:Dive Meet vs Twin Farms
DESCRIPTION:Come support our Marlin divers at the first home meet of the season!
URL:https://mctsa.com/event/dive-meet-vs-twin-farms/
ORGANIZER;CN="Rachel Brightbill":MAILTO:rbrightbill@gmail.com
END:VEVENT
END:VCALENDAR