BEGIN:VCALENDAR
VERSION:2.0
PRODID:-//Mill Creek Towne Swim Association - Home of the Marlins - ECPv6.15.20//NONSGML v1.0//EN
CALSCALE:GREGORIAN
METHOD:PUBLISH
X-ORIGINAL-URL:https://mctsa.com
X-WR-CALDESC:Events for Mill Creek Towne Swim Association - Home of the Marlins
REFRESH-INTERVAL;VALUE=DURATION:PT1H
X-Robots-Tag:noindex
X-PUBLISHED-TTL:PT1H
BEGIN:VTIMEZONE
TZID:America/New_York
BEGIN:DAYLIGHT
TZOFFSETFROM:-0500
TZOFFSETTO:-0400
TZNAME:EDT
DTSTART:20230312T070000
END:DAYLIGHT
BEGIN:STANDARD
TZOFFSETFROM:-0400
TZOFFSETTO:-0500
TZNAME:EST
DTSTART:20231105T060000
END:STANDARD
BEGIN:DAYLIGHT
TZOFFSETFROM:-0500
TZOFFSETTO:-0400
TZNAME:EDT
DTSTART:20240310T070000
END:DAYLIGHT
BEGIN:STANDARD
TZOFFSETFROM:-0400
TZOFFSETTO:-0500
TZNAME:EST
DTSTART:20241103T060000
END:STANDARD
BEGIN:DAYLIGHT
TZOFFSETFROM:-0500
TZOFFSETTO:-0400
TZNAME:EDT
DTSTART:20250309T070000
END:DAYLIGHT
BEGIN:STANDARD
TZOFFSETFROM:-0400
TZOFFSETTO:-0500
TZNAME:EST
DTSTART:20251102T060000
END:STANDARD
END:VTIMEZONE
BEGIN:VEVENT
DTSTART;TZID=America/New_York:20240609T130000
DTEND;TZID=America/New_York:20240609T150000
DTSTAMP:20260419T231741
CREATED:20240519T130019Z
LAST-MODIFIED:20240519T130019Z
UID:10000032-1717938000-1717945200@mctsa.com
SUMMARY:Candlewood Elementary 5th Grade Pool Party
DESCRIPTION:Congratulations on completing elementary school!  To celebrate the accomplishment\, 5th graders are invited to a pool party!  Students must be accompanied by an adult for the duration. \nSign Up Here! \n 
URL:https://mctsa.com/event/candlewood-elementary-5th-grade-pool-party/
ORGANIZER;CN="Sam Erdheim":MAILTO:serdheim@hotmail.com
END:VEVENT
BEGIN:VEVENT
DTSTART;TZID=America/New_York:20240608T130000
DTEND;TZID=America/New_York:20240608T150000
DTSTAMP:20260419T231741
CREATED:20240519T125803Z
LAST-MODIFIED:20240519T125803Z
UID:10000031-1717851600-1717858800@mctsa.com
SUMMARY:Mill Creek Towne Elementary Fifth Grade Pool Party
DESCRIPTION:Congratulations on completing Elementary School. To celebrate the accomplishment we are inviting 5th Graders to a Pool party! Students must be accompanied by an adult. \nSign Up here!
URL:https://mctsa.com/event/mill-creek-towne-elementary-fifth-grade-pool-party/
LOCATION:mct pool
ORGANIZER;CN="Sam Erdheim":MAILTO:serdheim@hotmail.com
END:VEVENT
BEGIN:VEVENT
DTSTART;TZID=America/New_York:20240601T120000
DTEND;TZID=America/New_York:20240601T180000
DTSTAMP:20260419T231741
CREATED:20240528T221345Z
LAST-MODIFIED:20240528T221345Z
UID:10000114-1717243200-1717264800@mctsa.com
SUMMARY:Fun at Mill Creek Towne Swim! Free Preview Event
DESCRIPTION:We are welcoming our neighbors to the Creek for a free preview event.  If you have friends who are curious about the pool let them know they can check us out for FREE.   \nSend them this link to sign up:  \nhttps://www.signupgenius.com/go/10C0545AAA923A3FA7-49893717-funatmill
URL:https://mctsa.com/event/fun-at-mill-creek-towne-swim-free-preview-event/
ORGANIZER;CN="Sam Erdheim":MAILTO:serdheim@hotmail.com
END:VEVENT
END:VCALENDAR